BEGIN:VCALENDAR
PRODID:-//Grails iCalendar plugin//NONSGML Grails iCalendar plugin//EN
VERSION:2.0
CALSCALE:GREGORIAN
METHOD:PUBLISH
BEGIN:VEVENT
DTSTAMP:20260423T233834Z
DTSTART;TZID=Europe/London:20130715T100000
DTEND;TZID=Europe/London:20130717T180000
SUMMARY:The British Society for Ethical Theory (BSET) 2013 Conference
UID:20260430T202132Z-iCalPlugin-Grails@philevents-web-6b96c54f56-bljdq
TZID:Europe/London
LOCATION:London\, United Kingdom
DESCRIPTION:<p>Abstracts and programme now available\, along with all the details about registration and postgraduate bursaries.</p>\nPG bursaries - apply by&nbsp\;14th June\n<p>Late fee - from&nbsp\;21st June</p>\n\n<p>Note - BSET is not organising accommodation this year.</p>\n\n\n
ORGANIZER:
METHOD:PUBLISH
END:VEVENT
END:VCALENDAR
