BEGIN:VCALENDAR
PRODID:-//Grails iCalendar plugin//NONSGML Grails iCalendar plugin//EN
VERSION:2.0
CALSCALE:GREGORIAN
METHOD:PUBLISH
BEGIN:VEVENT
DTSTAMP:20260424T014154Z
DTSTART;TZID=Europe/London:20121210T090000
DTEND;TZID=Europe/London:20121210T090000
SUMMARY:The British Society for Ethical Theory 2013 Conference
UID:20260501T010156Z-iCalPlugin-Grails@philevents-web-6b96c54f56-bljdq
TZID:Europe/London
LOCATION:London\, United Kingdom
DESCRIPTION:<p>Papers are invited for the 2013 annual conference of the British Society for&nbsp\;Ethical Theory\, to be held at the Institute of Philosophy\, University of London\, following directly on from the Joint Session\, to be held in Exeter.</p>\n<p>&nbsp\;<br>The subject area is open within metaethics and normative ethics. Papers on topics in&nbsp\;applied ethics\, moral psychology&nbsp\;or the history of ethics may also be considered provided&nbsp\;they are of wider theoretical interest.&nbsp\;<br><br>Papers\, which should be unpublished at the time of submission\, should be&nbsp\;in English\, no longer than 6500 words in the main text\, readable in&nbsp\;45 minutes and prepared&nbsp\;for&nbsp\;blind review. BSET is keen that papers will be communicated clearly&nbsp\;to its conference audience.&nbsp\;Please bear in mind that all sessions are&nbsp\;plenary\, so the venue will be more like a lecture hall than a&nbsp\;seminar room.</p>\n<p>Those who submitted papers for our previous conferences - successfully or otherwise -&nbsp\;are welcome to submit again\, although&nbsp\;not&nbsp\;the same papers.&nbsp\;BSET operates a system whereby the papers will have all identifications removed <strong>before</strong>&nbsp\;being&nbsp\;sent to our Chief Referee\, who contacts other referees and finalizes the program. The one exception to this is the identification of postgraduate status. Please tell us if you are a postgraduate student as submissions from postgraduates are encouraged\; we aim to have at least one graduate speak at the conference.</p>\n<p>Selected conference papers will be considered for publication&nbsp\;in the journal&nbsp\;<em>Ethical&nbsp\;Theory and Moral Practice</em>. Please make clear in any covering email&nbsp\;whether you intend&nbsp\;your paper to be considered for publication here as well as&nbsp\;for the conference programme\, although final decision on this matter&nbsp\;need not be made by the author&nbsp\;until just after the conference itself. </p>\n<p>The deadline for submissions is&nbsp\;<strong>Monday 10th December&nbsp\;2012</strong>.&nbsp\;<br><br>Please send two documents\, electronically:</p>\n<ol>\n<li>an anonymized version of your paper\, to include a short abstract.&nbsp\;</li>\n<li>a short document with the title of your paper\, your full name\,&nbsp\;address and academic affiliation.&nbsp\;</li>\n</ol>\n<p>Documents should be emailed to the contact email on this page:&nbsp\;<br><br>http://www.bset.org.uk/2013.html</p>\n<p>Note that <strong>only</strong>&nbsp\;electronic submissions will be accepted.</p>\n<p>Further particulars regarding registration will be available&nbsp\;from:</p>
ORGANIZER:
METHOD:PUBLISH
END:VEVENT
END:VCALENDAR
