BEGIN:VCALENDAR
PRODID:-//Grails iCalendar plugin//NONSGML Grails iCalendar plugin//EN
VERSION:2.0
CALSCALE:GREGORIAN
METHOD:PUBLISH
BEGIN:VEVENT
DTSTAMP:20260421T141834Z
DTSTART;TZID=America/New_York:20121026T100000
DTEND;TZID=America/New_York:20121027T180000
SUMMARY:Locke Workshop
UID:20260423T150538Z-iCalPlugin-Grails@philevents-web-6b96c54f56-bljdq
TZID:America/New_York
LOCATION:Lexington\, United States
DESCRIPTION:<p><strong>Friday October 26</strong></p>\n<p>4:00-6:00 pm &nbsp\; &nbsp\; &nbsp\; &nbsp\; &nbsp\; &nbsp\; &nbsp\; &nbsp\; &nbsp\; &nbsp\; &nbsp\; &nbsp\; &nbsp\; &nbsp\; &nbsp\; &nbsp\; &nbsp\; &nbsp\;&nbsp\;</p>\n<p>Invited Speaker: Antonia LoLordo (University of Virginia)\,&nbsp\;&lsquo\;Three Problems in Locke&rsquo\;s Ontology of Substance and Mode&rsquo\;</p>\n<p>Location: Northen Auditorium\, Leyburn Library</p>\n<p>7:00 pm&nbsp\;&nbsp\;&nbsp\;&nbsp\;&nbsp\;&nbsp\;&nbsp\;&nbsp\;&nbsp\;&nbsp\;&nbsp\;&nbsp\;&nbsp\;&nbsp\; &nbsp\;&nbsp\;&nbsp\;&nbsp\;&nbsp\;&nbsp\;&nbsp\;&nbsp\;&nbsp\;&nbsp\;&nbsp\;&nbsp\;&nbsp\;&nbsp\;&nbsp\;&nbsp\;&nbsp\;</p>\n<p>Dinner: Bistro on Main</p>\n<p><strong>Saturday October 27</strong></p>\n<p>8:00-8:30 am&nbsp\;&nbsp\;&nbsp\;&nbsp\;&nbsp\;&nbsp\;&nbsp\;&nbsp\;&nbsp\;&nbsp\;&nbsp\;&nbsp\;&nbsp\;&nbsp\;&nbsp\;&nbsp\;&nbsp\;&nbsp\;&nbsp\;</p>\n<p>Continental Breakfast: Elrod Commons 206\, Chavis Boardroom</p>\n<p>8:30-10:00 am&nbsp\;&nbsp\;&nbsp\;&nbsp\;&nbsp\;&nbsp\;&nbsp\;&nbsp\;&nbsp\;&nbsp\;&nbsp\;&nbsp\;&nbsp\;&nbsp\;&nbsp\;&nbsp\;</p>\n<p>Emily Crookston (Coastal Carolina University)\,&nbsp\;&lsquo\;Making Sense of Mixed Modes: Reconciling Locke&rsquo\;s Metaphysics and His Moral Philosophy&rsquo\;</p>\n<p>Commentator: Ruth Boeker (Bowling Green State University)</p>\n<p>Session Chair: Jessica Gordon-Roth (Washington and Lee)</p>\n<p>10:15-11:45 am&nbsp\;&nbsp\;&nbsp\;&nbsp\;&nbsp\;&nbsp\;&nbsp\;&nbsp\;&nbsp\;&nbsp\;&nbsp\;&nbsp\;</p>\n<p>Jan-Erik Jones (Southern Virginia University)\,&nbsp\;&lsquo\;Locke\, Essences and Ontology&rsquo\;</p>\n<p>Commentator: Patrick Connelly (UNC Chapel Hill)</p>\n<p>Session Chair: James Mahon (Washington and Lee)</p>\n<p>12:00-1:15 pm&nbsp\; &nbsp\; &nbsp\; &nbsp\; &nbsp\; &nbsp\; &nbsp\; &nbsp\;</p>\n<p>Lunch</p>\n<p>1:30-3:00 pm&nbsp\;&nbsp\;&nbsp\;&nbsp\;&nbsp\;&nbsp\;&nbsp\;&nbsp\;&nbsp\;&nbsp\;&nbsp\;&nbsp\;&nbsp\;&nbsp\;&nbsp\;&nbsp\;&nbsp\;&nbsp\; &nbsp\;&nbsp\;&nbsp\;&nbsp\;&nbsp\;&nbsp\;&nbsp\;&nbsp\;&nbsp\;&nbsp\;&nbsp\;&nbsp\;&nbsp\;&nbsp\;&nbsp\;&nbsp\;&nbsp\;&nbsp\;</p>\n<p>Benjamin Hill (University of Western Ontario)\,&nbsp\;&lsquo\;A Better Argument for Content Externalism in Locke&rsquo\;</p>\n<p>Commentator: Matthew Priselac (Virginia Tech)</p>\n<p>Session Chair: Jessica Gordon-Roth (Washington and Lee)</p>\n<p>3:15-4:45 pm&nbsp\;&nbsp\;&nbsp\;&nbsp\;&nbsp\;&nbsp\;&nbsp\;&nbsp\;&nbsp\;&nbsp\;&nbsp\;&nbsp\;&nbsp\;&nbsp\;&nbsp\;&nbsp\;&nbsp\;&nbsp\;&nbsp\;&nbsp\;&nbsp\;&nbsp\;&nbsp\;&nbsp\;&nbsp\;&nbsp\;&nbsp\;&nbsp\;&nbsp\;&nbsp\;&nbsp\;&nbsp\;&nbsp\;&nbsp\;&nbsp\;&nbsp\;&nbsp\;</p>\n<p>Lewis Powell (University at Buffalo\, SUNY)\,&nbsp\;&lsquo\;Locke&rsquo\;s Problems with Copulation and Conception&rsquo\;</p>\n<p>Commentator: Shelley Weinberg (Illinois\, Urbana-Champaign)</p>\n<p>Session Chair: James Mahon (Washington and Lee)</p>\n<p>Location for papers Saturday: Elrod Commons 206\,&nbsp\;Chavis Boardroom</p>\n<p>With thanks to the Office of the Dean of the College and the Department of Philosophy</p>\n<p>Contact:&nbsp\;Jessica Gordon-Roth:&nbsp\;gordon-rothj@wlu.edu.</p>
ORGANIZER:
METHOD:PUBLISH
END:VEVENT
END:VCALENDAR
