BEGIN:VCALENDAR
PRODID:-//Grails iCalendar plugin//NONSGML Grails iCalendar plugin//EN
VERSION:2.0
CALSCALE:GREGORIAN
METHOD:PUBLISH
BEGIN:VEVENT
DTSTAMP:20260421T160908Z
DTSTART;TZID=Europe/London:20120907T100000
DTEND;TZID=Europe/London:20120907T100000
SUMMARY:Locke Workshop
UID:20260423T195638Z-iCalPlugin-Grails@philevents-web-6b96c54f56-bljdq
TZID:Europe/London
LOCATION:Lexington\, United States
DESCRIPTION:<p>Papers on any topic in John Locke&rsquo\;s philosophy are welcome.</p>\n\n<p>Please send paper abstracts (of no more than 500 words) prepared for blind review to</p>\n<p>Jessica Gordon-Roth:&nbsp\;gordon-rothj@wlu.edu</a>.</p>\n\n<p><strong>Abstracts are due September 7\, 2012.</strong></p>
ORGANIZER:
METHOD:PUBLISH
END:VEVENT
END:VCALENDAR
