BEGIN:VCALENDAR
PRODID:-//Grails iCalendar plugin//NONSGML Grails iCalendar plugin//EN
VERSION:2.0
CALSCALE:GREGORIAN
METHOD:PUBLISH
BEGIN:VEVENT
DTSTAMP:20260420T164114Z
DTSTART;TZID=America/New_York:20171104T050000
DTEND;TZID=America/New_York:20171104T130000
SUMMARY:3rd Penn Reasons and Foundations of Epistemology Conference (PeRFECt3)
UID:20260421T034514Z-iCalPlugin-Grails@philevents-web-f5d4878dd-nv7xt
TZID:America/New_York
LOCATION:402 Cohen Hall\, Philadelphia\, United States
DESCRIPTION:<p>Please join us on&nbsp\;<strong>November 4\, 2017</strong>&nbsp\;as the Philosophy Department at the University of Pennsylvania hosts the third&nbsp\;<strong>Penn Reasons and Foundations of Epistemology Conference (PeRFECt3)</strong>: Epistemology and Testimony in the Age of Fake News.</p>\n<p>The PeRFECt speakers will be&nbsp\;Prof. Sanford Goldberg\,&nbsp\;Prof. Michael Lynch\,&nbsp\;Prof. Catherine Elgin\, and&nbsp\;Prof. Ernest Sosa.</p>\n<p>There will also be faculty and graduate student commentators-at-large (more information coming soon).</p>\n<p>More information is coming soon\, but for urgent requests\, please contact&nbsp\;perfect-conf@phil.upenn.edu.</p>
ORGANIZER;CN=Daniel J. Singer;CN=Lisa Miracchi:
METHOD:PUBLISH
END:VEVENT
END:VCALENDAR
