BEGIN:VCALENDAR
PRODID:-//Grails iCalendar plugin//NONSGML Grails iCalendar plugin//EN
VERSION:2.0
CALSCALE:GREGORIAN
METHOD:PUBLISH
BEGIN:VEVENT
DTSTAMP:20260425T200620Z
DTSTART;TZID=Europe/London:20121030T234500
DTEND;TZID=Europe/London:20121030T234500
SUMMARY:Dimensions of Measurement
UID:20260427T190532Z-iCalPlugin-Grails@philevents-web-6b96c54f56-bljdq
TZID:Europe/London
LOCATION:Bielefeld\, Germany
DESCRIPTION:<p>A philosophical and historical conference on "Dimensions of Measurement" will take place March 14 to 16\, 2013\, in Bielefeld\, Germany.</p>\n<p>Plenary speakers are Marcel Boumans\, Hasok Chang\, Nadine de Courtenay\, Laura Dassow Walls\, Michael Heidelberger\, Martin Kusch\, Luca Mari\, Joel Michell\, Mary Morgan\, Simon Schaffer\, and Eran Tal.<br> <br> The conference will explore aspects of measurement in the natural\, engineering\, social\, and human sciences and from a variety of philosophical perspectives with Weberian\, Foucauldian\, logical empiricist\, phenomenological\, social constructivist and other traditions converging on questions of method\, of standardization\, of world-making in measurement.</p>\n<p>Submissions for individual contributions or symposia (three or four papers) are invited - see <a target="_blank">www.bicoda.info</a> for a more detailed call for papers. Submit abstracts for individual contributions (400-500 words) or symposia (1000-1200 words) at<br> <a href="https://www.easychair.org/conferences/?conf=dom2013">https://www.easychair.org/conferences/?conf=dom2013</a> &nbsp\;</p>\n<p>Deadline: <strong>October 30\, 2012</strong> (notifications will be sent December 1).</p>\n<p>For further information and suggestions\, contact the conference organizers Alfred Nordmann (<a href="mailto:nordmann@phil.tu-darmstadt.de">nordmann@phil.tu-darmstadt.de</a>) and Oliver Schlaudt (<a target="_blank">oliver.schlaudt@urz.uni-heidelberg.de</a>).</p>
ORGANIZER;CN=Alfred  Nordmann ;CN=Oliver  Schlaudt :
METHOD:PUBLISH
END:VEVENT
END:VCALENDAR
