BEGIN:VCALENDAR
PRODID:-//Grails iCalendar plugin//NONSGML Grails iCalendar plugin//EN
VERSION:2.0
CALSCALE:GREGORIAN
METHOD:PUBLISH
BEGIN:VEVENT
DTSTAMP:20260420T181105Z
DTSTART;TZID=America/New_York:20170915T194500
DTEND;TZID=America/New_York:20170915T194500
SUMMARY:3rd Penn Reasons and Foundations of Epistemology Conference (PeRFECt3)
UID:20260421T093604Z-iCalPlugin-Grails@philevents-web-f5d4878dd-nv7xt
TZID:America/New_York
LOCATION:402 Cohen Hall\, Philadelphia\, United States
DESCRIPTION:<p>Please join us on November 4\, 2017 as the Philosophy Department at the University of Pennsylvania hosts the third <strong>Penn Reasons and Foundations of Epistemology Conference (PeRFECt3): Epistemology and Testimony in the Age of Fake News. &nbsp\; </strong></p>\n<p>The PeRFECt speakers will be Prof. Catherine Elgin (Harvard)\, Prof. Sanford Goldberg (Northwestern)\, Prof. Michael Lynch (UConn)\, and Prof. Ernest Sosa (Rutgers). There will also be faculty commentators-at-large\, including Prof. Emmalon Davis (New School)\, Prof.&nbsp\;Karen Frost-Arnold (HWS)\, Prof. Allan Hazlett (WashU)\, Prof.&nbsp\;Mellisa Koenig (Minnesota)\, Prof.&nbsp\;Anna-Sara Malmgren (Stanford)\, and Prof.&nbsp\;Deborah Tollefsen (Memphis). &nbsp\;</p>\n<p><strong>This is a call for applications to be a graduate student commentator-at-large.</strong> The responsibility of commentators-at-large is to be an engaged and active participant in the conference. We have will provide accommodations in Philadelphia for November 3rd and 4th and meals with the other conference participants on November 4th. Graduate student commentators-at-large will be responsible for their own travel.&nbsp\; In order to be considered\, please send your CV and a brief paragraph (max 100 words) describing why the conference would benefit you and your work to the conference organizers at&nbsp\;perfect-conf@phil.upenn.edu&nbsp\;with the subject "PeRFECt3 Grad CAL Application". The deadline is September 15th\, 2017. Decisions will be made by September 22nd.&nbsp\;</p>
ORGANIZER;CN=Daniel J. Singer;CN=Lisa Miracchi:
METHOD:PUBLISH
END:VEVENT
END:VCALENDAR
