BEGIN:VCALENDAR
PRODID:-//Grails iCalendar plugin//NONSGML Grails iCalendar plugin//EN
VERSION:2.0
CALSCALE:GREGORIAN
METHOD:PUBLISH
BEGIN:VEVENT
DTSTAMP:20260419T171447Z
DTSTART;TZID=Europe/Berlin:20180202T050000
DTEND;TZID=Europe/Berlin:20180203T120000
SUMMARY:Imagination as a source of knowledge
UID:20260421T112555Z-iCalPlugin-Grails@philevents-web-f5d4878dd-nv7xt
TZID:Europe/Berlin
LOCATION:Albertus-Magnus-Platz 1\, Cologne\, Germany\, 50923
ORGANIZER;CN=Luis Rosa:
METHOD:PUBLISH
END:VEVENT
END:VCALENDAR
