BEGIN:VCALENDAR
PRODID:-//Grails iCalendar plugin//NONSGML Grails iCalendar plugin//EN
VERSION:2.0
CALSCALE:GREGORIAN
METHOD:PUBLISH
BEGIN:VEVENT
DTSTAMP:20260422T200525Z
DTSTART;TZID=Europe/Prague:20171124T040000
DTEND;TZID=Europe/Prague:20171126T120000
SUMMARY:Cognition and Language 2017
UID:20260427T113210Z-iCalPlugin-Grails@philevents-web-6b96c54f56-bljdq
TZID:Europe/Prague
LOCATION:Arne Nováka 1\, Brno\, Czech Republic\, 602 00
DESCRIPTION:<p>BRAK (Brno Analytic Circle) and SCSP (Society for Cognitive Science and Philosophy)\, in cooperation with Department of Philosophy and Faculty of Arts of Masaryk University\, are inviting you to conference on cognition and language CaL2017.</p>\n<p>Language is a research topic shared by many fields of study such as linguistics\, logic\, philosophy\, psychology\, etc. We believe that cognitive science represents the next possible direction\, which can lead to new understanding of the phenomena. The main aim of CaL2017 is to show how cognitive science can enhance the more traditional approaches to natural and/or artificial languages and bring new insights.</p>\n<p><strong>Possible topics could include\, but are not limited to:</strong></p>\n<ul>\n<li>cognitive science and argumentation</li>\n<li>language analysis in cognitive science</li>\n<li>language and cognition\, mapping of meaning\, representation in language</li>\n<li>logic and cognitive science</li>\n<li>natural language in cognitive science</li>\n<li>vagueness\, ambiguity and other problems in language</li>\n</ul>\n<p><strong>IMPORTANT DATES</strong></p>\n<p>Submission deadline: 22 September 2017</p>\n<p>Notification of acceptance: by beginning of October 2017</p>\n<p>Registration for attendees without a contribution is not required.</p>\n<p>CaL2017: 24&ndash\;26 November 2017</p>\n<p><strong><br></strong></p>\n<p><strong>PLACE</strong></p>\n<p>Room B2.13\, Building B</p>\n<p>Faculty of Arts\, Masaryk University</p>\n<p>Arne Nov&aacute\;ka 1</p>\n<p>602 00 Brno</p>\n<p><strong>FURTHER INFORMATION</strong></p>\n<p>https://www.facebook.com/ibrak.cz</p>\n<p>https://www.facebook.com/events/417524155308201</p>
ORGANIZER:
METHOD:PUBLISH
END:VEVENT
END:VCALENDAR
