BEGIN:VCALENDAR
PRODID:-//Grails iCalendar plugin//NONSGML Grails iCalendar plugin//EN
VERSION:2.0
CALSCALE:GREGORIAN
METHOD:PUBLISH
BEGIN:VEVENT
DTSTAMP:20260422T182803Z
DTSTART;TZID=Europe/Prague:20170922T194500
DTEND;TZID=Europe/Prague:20170922T194500
SUMMARY:Cognition and Language 2017
UID:20260427T053615Z-iCalPlugin-Grails@philevents-web-6b96c54f56-bljdq
TZID:Europe/Prague
LOCATION:Brno\, Czech Republic
DESCRIPTION:<p>Submission of proposals for contributed talks (30 minutes + 10 minutes for discussion) on topics of language and cognitive science are welcomed. The proposal should contain abstract (300&ndash\;600 words) with author(s) name(s)\, affiliation(s) and e-mail address and should be in two formats\, docx and pdf.</p>\n<p>Please send your submission prior to 22 September 2017 to conference@ibrak.cz.</p>\n<p>Possible topics could include\, but are not limited to:</p>\n<ul>\n<li>cognitive science and argumentation</li>\n<li>language analysis in cognitive science</li>\n<li>language and cognition\, mapping of meaning\, representation in language</li>\n<li>logic and cognitive science</li>\n<li>natural language in cognitive science</li>\n<li>vagueness\, ambiguity and other problems in language</li>\n</ul>
ORGANIZER:
METHOD:PUBLISH
END:VEVENT
END:VCALENDAR
