BEGIN:VCALENDAR
PRODID:-//Grails iCalendar plugin//NONSGML Grails iCalendar plugin//EN
VERSION:2.0
CALSCALE:GREGORIAN
METHOD:PUBLISH
BEGIN:VEVENT
DTSTAMP:20260425T121728Z
DTSTART;TZID=Europe/London:20171107T070000
DTEND;TZID=Europe/London:20171107T120000
SUMMARY:Aesthetics of Computer Music: Changes in the Nature and Reception of Music'
UID:20260427T063906Z-iCalPlugin-Grails@philevents-web-6b96c54f56-bljdq
TZID:Europe/London
LOCATION: 12 Cavendish Rd\, Leeds \, Leeds\, United Kingdom\, LS2 9JT
DESCRIPTION:<p><strong>Workshop: 'Aesthetics of Computer Music: Changes in the Nature and Reception of Music'</strong><br> <br> Date: 7th November 2017<br> Time: 12:00 - 17:30 Location: Lecture Room 2\, School of Music\, University of Leeds<br> Cost: Free <br> <br> This workshop explores the impact that the latest developments in computer music have on how we receive and research music. The discussion will bring together many different perspectives - music research\, psychology of music\, philosophy\, composition\, performance - with the aims of collating the research that is being carried out on the topic and of considering how the various results intersect with each other. <br> <br> <br> <strong>Programme</strong><br> <br> <br> 11:50 - 12:00 &nbsp\;&nbsp\; &nbsp\;Welcome<br> <br> 12:00 - 12:50 &nbsp\;&nbsp\; &nbsp\;Dr Luke Windsor\, School of Music\, University of Leeds\, &ldquo\;The Illusion of Disembodiment: The Ghost in the Musical Machine&rdquo\;<br> <br> 12:50 - 13:40 &nbsp\;&nbsp\; &nbsp\;Lunch<br> <br> 13:40 - 14:30 &nbsp\;&nbsp\; &nbsp\;Prof. Andy Hamilton\, Department of Philosophy\, Durham University\, &ldquo\;The Role of Computers in Music: A Humanistic Conception&rdquo\;<br> <br> 14:30 - 14:40 &nbsp\;&nbsp\; &nbsp\;Break<br> <br> 14:40 - 15:30 &nbsp\;&nbsp\; &nbsp\;Dr. Freya Bailes\, School of Music\, University of Leeds\, &ldquo\;Psychological Interests in Computer Music Perception&rdquo\;<br> <br> 15:30 - 15:40 &nbsp\;&nbsp\; &nbsp\;Break<br> <br> 15:40 - 16:30 &nbsp\;&nbsp\; &nbsp\;Dr. Adam Stanovic\, Department of Music\, The University of Sheffield\, &ldquo\;Computer Music: An Ideological Charge&rdquo\;<br> <br> 16:30 - 16:40 &nbsp\;&nbsp\; &nbsp\;Break<br> <br> 16:40 - 17:30 &nbsp\;&nbsp\; &nbsp\;Panel<br> <br> <br> <br> <strong>Sponsors</strong><br> <br> The event is co-sponsored by the Centre for Aesthetics and the School of Music at the University of Leeds.<br> <br> <br> Participation is free but please register your attention to attend sending an email to&nbsp\;<u>caterina.moruzzi@nottingham.ac.uk</u></p>
ORGANIZER;CN=Caterina Moruzzi:
METHOD:PUBLISH
END:VEVENT
END:VCALENDAR
