BEGIN:VCALENDAR
PRODID:-//Grails iCalendar plugin//NONSGML Grails iCalendar plugin//EN
VERSION:2.0
CALSCALE:GREGORIAN
METHOD:PUBLISH
BEGIN:VEVENT
DTSTAMP:20260426T032638Z
DTSTART;TZID=America/New_York:20180317T050000
DTEND;TZID=America/New_York:20180318T130000
SUMMARY:Societal Implications: Applying Academic Philosophy Outside of the Academy
UID:20260428T063736Z-iCalPlugin-Grails@philevents-web-6b96c54f56-bljdq
TZID:America/New_York
LOCATION:Boston University\, Boston\, United States
DESCRIPTION:<p>Normal 0 false false false EN-US X-NONE X-NONE/* Style Definitions */ table.MsoNormalTable {mso-style-name:"Table Normal"\; mso-tstyle-rowband-size:0\; mso-tstyle-colband-size:0\; mso-style-noshow:yes\; mso-style-priority:99\; mso-style-parent:""\; mso-padding-alt:0in 5.4pt 0in 5.4pt\; mso-para-margin-top:0in\; mso-para-margin-right:0in\; mso-para-margin-bottom:8.0pt\; mso-para-margin-left:0in\; line-height:107%\; mso-pagination:widow-orphan\; font-size:11.0pt\; font-family:"Calibri"\,sans-serif\; mso-ascii-font-family:Calibri\; mso-ascii-theme-font:minor-latin\; mso-hansi-font-family:Calibri\; mso-hansi-theme-font:minor-latin\; mso-bidi-font-family:"Times New Roman"\; mso-bidi-theme-font:minor-bidi\;}</p>\n<p><u>Workshop Information\, Aims\, and Purposes: CFP</u></p>\n<p><em>The Society for Applied Philosophy and Boston University present BU&rsquo\;s Third Annual Graduate Conference in Philosophy\,</em></p>\n<p><strong>"Societal Implications: Applying Academic Philosophy Outside of the Academy."</strong></p>\n<p><u>&nbsp\;</u></p>\n<p><u>Location</u>: Boston University Charles River Campus Photonics Building\, West End Lounge (9th floor).&nbsp\;</p>\n<p><u>Conference Dates</u>: <strong>March 17th-18th\, 2018</strong></p>\n<p>What work can philosophers do to influence the world beyond the walls of the academy? &nbsp\;In what way does contemporary philosophy impact social norms? How can philosophers help us better understand the &ldquo\;safety&rdquo\; said to be found in safe spaces? &nbsp\;In what ways can philosophers help us navigate delicate questions concerning the second amendment? What about the &lsquo\;me too&rsquo\; movement\, pleasure politics and women&rsquo\;s health equity?</p>\n<p>These questions and others like them have occasioned Boston University&rsquo\;s third annual graduate conference in philosophy\, &ldquo\;Societal Implications: Applying Academic Philosophy Outside of the Academy.&rdquo\;</p>\n<p>Presented by Boston University&rsquo\;s Department of Philosophy and the Society for Applied Philosophy\, this conference will feature presentations by seven graduate students from across the United States and abroad\, two keynote addresses\, one from Professor Lynne Tirrell (UConn) and one from Professor Kieran Setiya (MIT)\, as well as a round table discussion focused on contemporary topics in applied social and political philosophy. &nbsp\;This conference is free and open to the public and has been designed to be accessible and engaging to both the thoughtful member of the public and the entrenched academic thinker. We warmly invite you to join with us this Saturday and Sunday for what promises to be a series of rich and potent conversations concerning some of the most pressing issues in our fraught social and political landscape.</p>\n\n<p>This conference has been generously funded by The Society for Applied Philosophy (<a href="http://www.appliedphil.org/view/0/index.html">http://www.appliedphil.org/view/0/index.html</a>) and The Department of Philosophy at Boston University (https://www.bu.edu/philo/).</p>\n<p>This event will be free and open to the public.</p>
ORGANIZER;CN=Kokot Jordan;CN=Jordan Kokot;CN= Elliott Risch:
METHOD:PUBLISH
END:VEVENT
END:VCALENDAR
