BEGIN:VCALENDAR
PRODID:-//Grails iCalendar plugin//NONSGML Grails iCalendar plugin//EN
VERSION:2.0
CALSCALE:GREGORIAN
METHOD:PUBLISH
BEGIN:VEVENT
DTSTAMP:20260419T213510Z
DTSTART;TZID=Europe/Zurich:20180308T040000
DTEND;TZID=Europe/Zurich:20180309T120000
SUMMARY:Lugano Undergraduate Philosophy Conference 2018
UID:20260422T134530Z-iCalPlugin-Grails@philevents-web-f5d4878dd-nv7xt
TZID:Europe/Zurich
LOCATION:Via Buffi 13\, Lugano\, Switzerland\, 6900
DESCRIPTION:<ol><li><strong>Lugano Undergraduate Philosophy Conference 2018</strong></li>\n<li>Date: March Thursday March 8 - Friday March 9\, 2018 &nbsp\;&nbsp\;</li>\n<li>Keynote: Francesco Berto (University of Amsterdam) &nbsp\;&nbsp\;</li>\n<li>Paper length: either abstract of up to 650 words or paper of up to 4&rsquo\;500 words &nbsp\;&nbsp\;</li>\n<li>Submission deadline: January 26\, 2018 &nbsp\;&nbsp\;</li>\n<li>Topics: metaphysics\, philosophy of mind\, philosophy of time (contemporary analytic philosophy\, history of ancient philosophy\, history of medieval philosophy) &nbsp\;&nbsp\;</li>\n<li>Submissions should be prepared for blind review and should be submitted tomarco.tosca@usi.ch&nbsp\;i.e. marco dot tosca at usi dot ch &nbsp\;&nbsp\;</li>\n<li>All speakers will receive a contribution to their expenses of 100 CHF. Some cheap accommodation may be available for speakers. &nbsp\;</li>\n<li>&nbsp\;While all talks will be in English\, submitted abstracts and papers may be in English\, Italian\, German\, Spanish\, French\, or Latin &nbsp\;&nbsp\;</li>\n<li>Questions should be sent to the same address as the submissions. &nbsp\;&nbsp\;</li>\n<li>The conference is organized by MAP - the USI master in philosophy&nbsp\;https://www.facebook.com/usimap/ -&nbsp\;https://www.usi.ch/en/map</li>\n</ol>\n<p><strong><br></strong></p>\n<p><strong>Timeline&nbsp\;</strong></p>\n<p><u>Day One\, March 8</u></p>\n<p><u><br></u></p>\n<p>09.00: welcome meeting - morning coffee&nbsp\;</p>\n<p>09.20: Introduction (Mulligan/Costa)</p>\n<p>09.30: (x) Berto (University of Amsterdam)\, <strong>Shallow Debates? Meinongians vs Quineans on the Meaning of Existence</strong></p>\n<p>10.30:&nbsp\; break&nbsp\;</p>\n<p>10.45: (1) Emanuele Rauzi (University of Padova)\, &ldquo\;Some Remarks on Putnam's Semantic Externalism&rdquo\;.</p>\n<p>11.30: break&nbsp\;</p>\n<p>11.45: (2) Lorenza Furlani (University of Milan)\, &ldquo\;The Internal Attention Theory vs The Internal Clock Model&rdquo\;</p>\n<p>12.30: Lunch&nbsp\;</p>\n<p>______________________________</p>\n\n<p>14.00: (3) Patrick Mulcahey (University in Washington)\, &ldquo\;Divine Foreknowledge and Quasi-temporal Eternity&rdquo\;</p>\n<p>14.45: break&nbsp\;</p>\n<p>15.00: (4) Marta Bielinska (Jagiellonian Univeristy\, Poland)\, &ldquo\;Metaphysics of Right and Left&rdquo\;</p>\n<p>15.45: break&nbsp\;</p>\n<p>16.00: (5) Antonio Cleani (University of Padova) &ldquo\;Kripke on the Contingent a Priori&rdquo\;</p>\n<p>16.45: end</p>\n\n\n<p><u>Day Two\, March 9&nbsp\;</u></p>\n<p><u><br></u></p>\n<p>09.15: (1) Angelos Sofocleous (University of Durham)\, &ldquo\;On the non-necessity of origin thesis&rdquo\;</p>\n<p>10.00: break&nbsp\;</p>\n<p>10.15: (2) Francesco Guiot (University of Torino)\, &ldquo\;Two (and yet more) concepts of determinism&rdquo\;</p>\n<p>11.00: break&nbsp\;</p>\n<p>11.15: (3) Eric Tremolanti (University of Lugano): &ldquo\;From Temporal Logic to The Moving Spotlight&rdquo\;</p>\n<p>12.00: break&nbsp\;</p>\n<p>12.15: (4) Samuel Tscharner (University of Basel)\, &ldquo\;Peter Godfrey-Smith's Argument Against Strong AI&rdquo\;</p>\n<p>13.00: lunch&nbsp\;</p>\n<p>_______________________________________</p>\n\n<p>14.30: (5) Basil Muller (University of Basel)\, &ldquo\;In defense of Michael Tye&rsquo\;s interpretation of the silicon-chip thought experiment&rdquo\;</p>\n<p>15.15: break</p>\n<p>15.30: (6) Nino Breunesse (University of Amsterdam)\, &ldquo\; Identity theory and consciousness: Reduction of dualism without reduction of subjectivity&rdquo\;</p>\n<p>16.15: end&nbsp\;</p>
ORGANIZER;CN=Damiano Costa;CN=Marco Tosca:
METHOD:PUBLISH
END:VEVENT
END:VCALENDAR
