BEGIN:VCALENDAR
PRODID:-//Grails iCalendar plugin//NONSGML Grails iCalendar plugin//EN
VERSION:2.0
CALSCALE:GREGORIAN
METHOD:PUBLISH
BEGIN:VEVENT
DTSTAMP:20260419T233214Z
DTSTART;TZID=Europe/Zurich:20180209T180000
DTEND;TZID=Europe/Zurich:20180209T180000
SUMMARY:Lugano Undergraduate Philosophy Conference 2018
UID:20260422T213316Z-iCalPlugin-Grails@philevents-web-f5d4878dd-nv7xt
TZID:Europe/Zurich
LOCATION:Via Buffi 13\, Lugano\, Switzerland\, 6900
DESCRIPTION:<ol><li><strong>Lugano Undergraduate Philosophy Conference 2018</strong> &nbsp\;&nbsp\;</li>\n<li>Date: March Thursday March 8 - Friday March 9\, 2018 &nbsp\;&nbsp\;</li>\n<li>Keynote: Francesco Berto (University of Amsterdam) &nbsp\;&nbsp\;</li>\n<li>Paper length: either abstract of up to 650 words or paper of up to 4&rsquo\;500 words &nbsp\;&nbsp\;</li>\n<li>Submission deadline: January 26\, 2018 &nbsp\;&nbsp\;</li>\n<li>Topics: metaphysics\, philosophy of mind\, philosophy of time (contemporary analytic philosophy\, history of ancient philosophy\, history of medieval philosophy) &nbsp\;&nbsp\;</li>\n<li>Submissions should be prepared for blind review and should be submitted tomarco.tosca@usi.ch&nbsp\;i.e. marco dot tosca at usi dot ch &nbsp\;&nbsp\;</li>\n<li>All speakers will receive a contribution to their expenses of 100 CHF. Some cheap accommodation may be available for speakers. &nbsp\;</li>\n<li>&nbsp\;While all talks will be in English\, submitted abstracts and papers may be in English\, Italian\, German\, Spanish\, French\, or Latin &nbsp\;&nbsp\;</li>\n<li>Questions should be sent to the same address as the submissions. &nbsp\;&nbsp\;</li>\n<li>The conference is organized by MAP - the USI master in philosophy&nbsp\;https://www.facebook.com/usimap/ -&nbsp\;https://www.usi.ch/en/map</li>\n</ol>
ORGANIZER;CN=Damiano Costa:
METHOD:PUBLISH
END:VEVENT
END:VCALENDAR
