BEGIN:VCALENDAR
PRODID:-//Grails iCalendar plugin//NONSGML Grails iCalendar plugin//EN
VERSION:2.0
CALSCALE:GREGORIAN
METHOD:PUBLISH
BEGIN:VEVENT
DTSTAMP:20260419T195111Z
DTSTART;TZID=Asia/Taipei:20180809T050000
DTEND;TZID=Asia/Taipei:20180811T130000
SUMMARY:Fourth Conference on Contemporary Philosophy in East Asia (CCPEA 2018)
UID:20260422T030550Z-iCalPlugin-Grails@philevents-web-f5d4878dd-nv7xt
TZID:Asia/Taipei
LOCATION:No. 64\, Section 2\, Zhinan Road\, \, Taipei\, Taiwan\, 116
DESCRIPTION:<p>CCPEA was first established in 2012 in order to promote academic exchanges and international research collaborations among East Asian philosophers. This conference takes place every two years. The first one was held in Taipei in September 2012\, the second one in Kyoto in August 2014\, and the third one in Seoul in August 2016. With this platform many East Asian philosophers and philosophers working on east Asian philosophy shared their work and interacted with one another during session meetings and social gatherings. We hope that the 4th CCPEA will continue this great tradition and facilitate more academically exciting and inspiring exchanges of ideas among East Asian philosophers.&nbsp\;&nbsp\;&nbsp\;&nbsp\;&nbsp\;&nbsp\;&nbsp\;&nbsp\;&nbsp\;&nbsp\;</p>\n<p>We have a special emphasis on &ldquo\;&rsquo\;The heritage of East Asia Philosophy&rdquo\; in the 4th conference. We would like to use this platform to honor and learn from the legacy of our teachers and the great effort they devote to our philosophical tradition\, as well as encouraging the participation of young researchers and students so that this philosophical heritage will be passed down.</p>\n<p>The registration fee for this conference is <strong>NT$2000(about </strong><strong><strong>USD</strong>60)</strong>\, which will cover the lunches and refreshments during the conference\, as well as the welcome reception (on 8/9) and the farewell banquet. You only need to register after your abstract is accepted.</p>\n<p>Please submit an <strong>abstract</strong> prepared for anonymous review as an <strong>e-mail attachment</strong> to the Conference Contact\, Professor Ellie Wang\, at <strong>ccpea2018@gmail.com </strong> before by <strong>April 15\, 2018. </strong></p>
ORGANIZER;CN=Ellie Wang:
METHOD:PUBLISH
END:VEVENT
END:VCALENDAR
