BEGIN:VCALENDAR
PRODID:-//Grails iCalendar plugin//NONSGML Grails iCalendar plugin//EN
VERSION:2.0
CALSCALE:GREGORIAN
METHOD:PUBLISH
BEGIN:VEVENT
DTSTAMP:20260419T215825Z
DTSTART;TZID=Asia/Taipei:20180415T170000
DTEND;TZID=Asia/Taipei:20180415T170000
SUMMARY:Fourth Conference on Contemporary Philosophy in East Asia (CCPEA 2018)
UID:20260422T144743Z-iCalPlugin-Grails@philevents-web-f5d4878dd-nv7xt
TZID:Asia/Taipei
LOCATION:No. 64\, Section 2\, Zhinan Road\, \, Taipei\, Taiwan\, 116
DESCRIPTION:<p>CCPEA was first established in 2012 in order to promote academic exchanges and international research collaborations among East Asian philosophers. This conference takes place every two years. The first one was held in Taipei in September 2012\, the second one in Kyoto in August 2014\, and the third one in Seoul in August 2016. With this platform many East Asian philosophers and philosophers working on east Asian philosophy shared their work and interacted with one another during session meetings and social gatherings. We hope that the 4th CCPEA will continue this great tradition and facilitate more academically exciting and inspiring exchanges of ideas among East Asian philosophers.&nbsp\;&nbsp\;&nbsp\;&nbsp\;&nbsp\;&nbsp\;&nbsp\;&nbsp\;&nbsp\;&nbsp\;</p>\n<p>We have a special emphasis on &ldquo\;&rsquo\;The heritage of East Asia Philosophy&rdquo\; in the 4th conference. We would like to use this platform to honor and learn from the legacy of our teachers and the great effort they devote to our philosophical tradition\, as well as encouraging the participation of young researchers and students so that this philosophical heritage will be passed down.</p>\n<p>We sincerely invite you to participate in the &ldquo\;<strong>Fourth Conference on Contemporary Philosophy in East Asia (CCPEA 2018)</strong>&rdquo\;\, scheduled from the <strong>9th </strong>to the<strong> 11th August 2018</strong> in Taipei\, Taiwan. This Conference will be hosted by National Chengchi University\, with the joint effort of National Yang-Ming University\, National Tsing Hua University\, and Academia Sinica.</p>\n<p>The Conference deliberations will be on the following themes:</p>\n<p>1.&nbsp\;&nbsp\;&nbsp\;&nbsp\; Logic</p>\n<p>2.&nbsp\;&nbsp\;&nbsp\;&nbsp\; Metaphysics</p>\n<p>3.&nbsp\;&nbsp\;&nbsp\;&nbsp\; Epistemology</p>\n<p>4.&nbsp\;&nbsp\;&nbsp\;&nbsp\; Philosophy of Language</p>\n<p>5.&nbsp\;&nbsp\;&nbsp\;&nbsp\; Philosophy of Mind</p>\n<p>6.&nbsp\;&nbsp\;&nbsp\;&nbsp\; Philosophy of Science</p>\n<p>7.&nbsp\;&nbsp\;&nbsp\;&nbsp\; Ethics</p>\n<p>8.&nbsp\;&nbsp\;&nbsp\;&nbsp\; Political philosophy</p>\n<p>9.&nbsp\;&nbsp\;&nbsp\;&nbsp\; Feminism and Gender Issues</p>\n<p>10.&nbsp\; Aesthetics</p>\n<p>11.&nbsp\; Philosophy of Religion</p>\n<p>12.&nbsp\; Chinese Philosophy</p>\n<p>13.&nbsp\; Asian Philosophy</p>\n<p>14.&nbsp\; European Philosophy</p>\n<p>15.&nbsp\; Comparative Philosophy</p>\n<p>16.&nbsp\; History of Philosophy in Contemporary Perspective</p>\n<p>17.&nbsp\; Others</p>\n<p>This Conference will examine research and development both locally and internationally. Although analytic approaches are preferred\, continental and other approaches are also welcomed.</p>\n<p>The registration fee for this conference is <strong>NT$2000(about </strong><strong><strong>USD</strong>60)</strong>\, which will cover the lunches and refreshments during the conference\, as well as the welcome reception (on 8/9) and the farewell banquet. You only need to register after your abstract is accepted.</p>\n<p>Please submit an <strong>abstract</strong> prepared for anonymous review as an <strong>e-mail attachment</strong> to the Conference Contact\, Professor Ellie Wang\, at <strong>ccpea2018@gmail.com </strong> before by <strong>April 15\, 2018. </strong></p>\n<p><strong></strong>Contributed Papers</p>\n<p>The abstract must be no more than <strong>500 words</strong> and in MS Word (*.doc) or Rich Text Format (*.rtf). Each accepted paper will be allocated <strong>30 minutes</strong> (20 minutes for presentation and 10 minutes for discussion).</p>\n<p>Contributed Symposia</p>\n<p>The abstract must be no more than <strong>1\,700 words</strong> in MS Word (*.doc) or Rich Text Format (*.rtf). It should include</p>\n<ul>\n<li>a general description of the format and the topic of the proposed symposium and its significance (maximum <strong>500 words</strong>)\, and</li>\n<li>an abstract of each paper (<strong>2-3 papers</strong>\, maximum <strong>500 words</strong> for each).</li>\n</ul>\n<p>An accepted symposium will be allocated <strong>90 minutes</strong> for presentation and discussion of at least two papers.</p>\n<p>When you submit the abstract\, please also provide the following information in the <strong>main body</strong> of <strong>your e-mail</strong>:</p>\n<ul>\n<li>Name (Please capitalize your family name.)</li>\n<li>Affiliation and Title</li>\n<li>Abstract Title</li>\n<li>Abstract Category (Please choose one of the areas listed above.)</li>\n</ul>\n<p>Your Faithfully\,</p>\n<p>The 4th CCPEA Local Organizing Committee</p>\n<p>Kai-Yuan Cheng (National Yang-Ming University / Taiwan)</p>\n<p>Szu-Ting Chen (National Tsing Hua University / Taiwan)</p>\n<p>Ellie Hua Wang (National ChengChi University/ Taiwan)</p>
ORGANIZER;CN=Ellie Wang:
METHOD:PUBLISH
END:VEVENT
END:VCALENDAR
