BEGIN:VCALENDAR
PRODID:-//Grails iCalendar plugin//NONSGML Grails iCalendar plugin//EN
VERSION:2.0
CALSCALE:GREGORIAN
METHOD:PUBLISH
BEGIN:VEVENT
DTSTAMP:20260419T224116Z
DTSTART;TZID=America/New_York:20180518T110000
DTEND;TZID=America/New_York:20180519T130000
SUMMARY:Chapel Hill Public Philosophy Workshop
UID:20260422T173903Z-iCalPlugin-Grails@philevents-web-f5d4878dd-nv7xt
TZID:America/New_York
LOCATION:240 East Cameron Avenue\, Chapel Hill\, United States\, 27599
DESCRIPTION:<p><strong>**Submission Deadline Extended to March 20**<br></strong></p>\n<p><strong><br></strong></p>\n<p><strong>Chapel Hill Public Philosophy Workshop</strong>&nbsp\;<br> &nbsp\;<br> We are delighted to announce a Public Philosophy Workshop at UNC Chapel Hill on 18 &amp\; 19&nbsp\;May 2018.&nbsp\;<br> &nbsp\;<br> All are warmly invited to attend.&nbsp\;<br> &nbsp\;<br> Keynote speakers will include&nbsp\;<a href="https://www.law.upenn.edu/cf/faculty/aallen/"><strong>Anita L. Allen</strong></a>&nbsp\;(Henry Silverman Professor of Law and Philosophy\, and Vice Provost for Faculty at UPenn)\,&nbsp\;<a href="https://pacscenter.stanford.edu/person/david-johnson/"><strong>David V. Johnson</strong></a>&nbsp\;(Senior Editor at <em>Stanford Social Innovation Review</em>\, former Opinion Editor at&nbsp\;<em>Al Jazeera</em>&nbsp\;and Web Editor at the&nbsp\;<em>Boston Review</em>)\,&nbsp\;<a href="http://www.myishacherry.org/"><strong>Myisha</strong>&nbsp\;<strong>Cherry</strong></a>&nbsp\;(UC Riverside\; contributor to&nbsp\;<em>Salon</em>\,&nbsp\;<em>HuffPo</em>\, and&nbsp\;<em>LA&nbsp\;Times</em>\; hosts for popular&nbsp\;<em>UnMute</em>&nbsp\;podcast)\, and&nbsp\;<a href="https://www.sinnott-armstrong.com/"><strong>Walter Sinnott-Armstrong</strong></a>&nbsp\;(Chauncey Stillman Professor of Practical Ethics at&nbsp\;Duke University and editor of OUP&rsquo\;s monograph series in public philosophy).<br> &nbsp\;<br> The event centrally consists in workshop sessions in which participants will offer critical&nbsp\;responses to each other&rsquo\;s work with the assistance of our keynote speakers. There will be&nbsp\;down-time for redrafting material\, and subsequent workshops to address improvements.&nbsp\;<br> &nbsp\;<br> In between times\, our keynote speakers will offer presentations on different aspects of public&nbsp\;philosophy. We will round up the workshop with an &lsquo\;open slather&rsquo\; panel session &mdash\; an&nbsp\;informal Q&amp\;A with workshop participants and keynote speakers\, addressing questions that&nbsp\;emerged throughout the workshop.<br> &nbsp\;<br>If\, in addition to attendance at the event\, you would like to have a piece of public philosophy workshopped at the event\, please submit your essay to 'publicphilosophyessays@gmail.com' by 1 March 2018. Submissions should be prepared for blind review according to the instructions below. Authors of accepted submissions will be notified by 1 April 2018.</p>\n<p>(Also\, please note that while we don't have a strict definition of what constitutes 'public philosophy\,' we are interested in essays that would be much better suited for <em>e.g.\, The Stone</em>\, <em>Boston Review\, Aeon\, Slate</em>\, etc.\, than for academic journals. To that end\, we will not consider any essays well-suited for journals.)<br><br>We will offer several fellowships: three for graduate students and two for pre-tenure&nbsp\;philosophers. These fellowships will cover&nbsp\;a portion of&nbsp\;the cost of travel to the workshop.&nbsp\;Fellowships will be awarded on the merits of a piece of unpublished public philosophy\, of any length\,&nbsp\;submitted to &lsquo\;publicphilosophyessays@gmail.com&rsquo\; by&nbsp\;1 March 2018.&nbsp\;Fellowship recipients will be notified by 1 April 2018. While we welcome&nbsp\;entries in all areas of philosophy\, we are particularly interested in entries that engage with&nbsp\;issues at the nexus of ethics\, social\, and political philosophy. Fellowship submissions will be automatically considered for workshopping.</p>\n<p>Please include the following information with your submission. In the <u>subject</u>\, write &ldquo\;[SUBMISSION] UNC Public Philosophy Workshop&rdquo\;. In the <u>body</u>\, list the following on separate lines: name\, institutional affiliation (or &lsquo\;unaffiliated&rsquo\;)\, professional status (tenure\, pre-tenure\, graduate student\, n/a). <u>Attach</u> a PDF\, DOC\, DOCX\, or RTF.<br> &nbsp\;<br> (This workshop is made possible by generous support from Duke University\, UNC Chapel&nbsp\;Hill\, the Parr Center for Ethics\,&nbsp\;UNC-Duke Philosophy\, Politics\, &amp\; Economics (PPE) program\,&nbsp\;the&nbsp\;Marc Sanders Foundation\, and the American Philosophical Association.)</p>
ORGANIZER;CN=Caleb Andrew Harrison;CN=Barry Maguire;CN=Macy Salzberger:
METHOD:PUBLISH
END:VEVENT
END:VCALENDAR
