BEGIN:VCALENDAR
PRODID:-//Grails iCalendar plugin//NONSGML Grails iCalendar plugin//EN
VERSION:2.0
CALSCALE:GREGORIAN
METHOD:PUBLISH
BEGIN:VEVENT
DTSTAMP:20260425T155944Z
DTSTART;TZID=Europe/Prague:20181115T040000
DTEND;TZID=Europe/Prague:20181116T120000
SUMMARY:From Quadrivium to Natural Sciences: New Impulses in the Traditional Framework
UID:20260427T134226Z-iCalPlugin-Grails@philevents-web-6b96c54f56-bljdq
TZID:Europe/Prague
LOCATION:Českobratrská 16\, Ostrava\, Czech Republic
DESCRIPTION:<p>The conference aims to provide an opportunity to discuss research and share ideas among the philosophers and historians of science concerning the inquiry into nature\, which was primarily represented by quadrivial disciplines and medicine during the early Middle Ages and further developed in reaction to emerging translations of Greek and Arabic texts on nature. The stress is put on the transformations in time\, crossing the boundaries\, and progressive introduction of &ldquo\;otherness&rdquo\; into the traditional conceptions.</p>\n<p>Participants are encouraged to focus on various fields which formed quadrivium (arithmetic\, geometry\, music\, and astronomy) and on other disciplines devoted to the study of nature (medicine\, optics\, meteorology\, timekeeping\, alchemy\, etc.). We welcome submissions focusing on issues discussed since the 10th century and following continuities (or discontinuities) up to the 17th century.</p>
ORGANIZER;CN=Lukas Licka;CN=Tomas Nejeschleba;CN=Marek Otisk;CN=David Cernin:
METHOD:PUBLISH
END:VEVENT
END:VCALENDAR
