BEGIN:VCALENDAR
PRODID:-//Grails iCalendar plugin//NONSGML Grails iCalendar plugin//EN
VERSION:2.0
CALSCALE:GREGORIAN
METHOD:PUBLISH
BEGIN:VEVENT
DTSTAMP:20260426T013449Z
DTSTART;TZID=Europe/Brussels:20180327T050000
DTEND;TZID=Europe/Brussels:20180327T060000
SUMMARY:Livestream 한국 VS 홍콩 축구 중계 인터넷 다시보기 실시간 TV 
UID:20260428T032436Z-iCalPlugin-Grails@philevents-web-6b96c54f56-bljdq
TZID:Europe/Brussels
LOCATION:Avenue Franklin Roosevelt 50 \, Brussels\, Belgium\, 1050
DESCRIPTION:<p>Live :&nbsp\; <a  href="https://bit.ly/2G2RlL3"  target="_blank">https://bit.ly/2G2RlL3</a></p>\n<p><br><br></p>\n<p>2018.\,+"AFC.\,+"여자.\,+"아시안컵.\,+"예선.\,+"경기.\,+"일정.\,+"안내!.\,+"*.\,+"해당.\,+"대회는.\,+"국내방송사에서.\,+"중계권을.\,+"구입하지.\,+"않은.\,+"관계로.\,+"TV.\,+"및.\,+"인터넷.\,+"중계가.\,+"없음을.\,+"알려드립니다..\,+"*.\,+"선발.\,+"명단.\,+"및.\,+"경기.\,+"결과는.\,+"확인.\,+"후.\,+"SNS를.\,+"통해.\,+"안내할.\,+"예정입니다..\,+"▷.\,+"경기일정.\,+"04.05(수).\,+"18시.\,+"30분.\,+"v인도.\,+"04.07(금).\,+"15시.\,+"30분.\,+"v북한.\,+"04.09(일).\,+"19시.\,+"30분.\,+"v홍콩.\,+"04.11(화).\,+"18시.\,+"...2014..\,+"9..\,+"25..\,+"-.\,+"오늘(25일).\,+"한국.\,+"홍콩.\,+"아시안게임.\,+"16강.\,+"경기중계가.\,+"있는.\,+"날입니다..\,+"공교롭게도.\,+"야구는.\,+"예선\,.\,+"축구는.\,+"16강.\,+"게임이.\,+"있습니다..\,+"홍콩.\,+"피파랭킹과\,.\,+"대한민국.\,+"피파랭킹으로.\,+"비교해.\,+"볼.\,+"때.\,+"사실.\,+"전력상.\,+"한국이.\,+"절대.\,+"우위에..11543\,.\,+"축구.\,+"&middot\;.\,+"03.25.\,+"15:00.\,+"[호주A리그].\,+"웰링턴피닉스.\,+"v.\,+"브리즈번로어\,.\,+"PK-TV\,.\,+"03.24\,.\,+"68..\,+"11542\,.\,+"축구.\,+"&middot\;.\,+"03.25.\,+"15:00.\,+"[K리그2].\,+"대전시티즌.\,+"v.\,+"부산아이파크\,.\,+"PK-TV\,.\,+"03.24\,.\,+"50..\,+"11541\,.\,+"배구.\,+"&middot\;.\,+"03.25.\,+"14:30.\,+"[V리그].\,+"한국도로공사.\,+"v.\,+"IBK기업은행\,.\,+"PK-TV\,.\,+"03.24\,.\,+"38..\,+"11540\,.\,+"축구.\,+"&middot\;.\,+"03.25.\,+"14:00.\,+"[K리그2].\,+"성남FC.\,+"v.\,+"안산그리너스\,.\,+"PK-TV\,.\,+"03.24.\,+"...2014..\,+"9..\,+"25..\,+"-.\,+"아시안게임.\,+"축구.\,+"동영상.\,+"한국.\,+"홍콩.\,+"하이라이트.\,+"박주호.\,+"김진수.\,+"골\,.\,+"여자축구.\,+"중계방송.\,+"홍콩축구감독.\,+"인천아시안게임.\,+"축구.\,+"중계채널\,.\,+"여자축구.\,+"대만전.\,+"한국.\,+"홍콩.\,+"축구.\,+"김판곤.\,+"감독.\,+"sbs생중계.\,+"여자축구.\,+"한국.\,+"대만\,.\,+"sb...\,+"....\,+"[대한민국.\,+"대만.\,+"중계.\,+"인터넷.\,+"시청].\,+"아시안게임.\,+"여자축구.\,+"한국.\,+"대만.\,+"중계를.\,+"볼.\,+"수.\,+"있습니다.11543\,.\,+"축구.\,+"&middot\;.\,+"03.25.\,+"15:00.\,+"[호주A리그].\,+"웰링턴피닉스.\,+"v.\,+"브리즈번로어\,.\,+"PK-TV\,.\,+"03.24\,.\,+"68..\,+"11542\,.\,+"축구.\,+"&middot\;.\,+"03.25.\,+"15:00.\,+"[K리그2].\,+"대전시티즌.\,+"v.\,+"부산아이파크\,.\,+"PK-TV\,.\,+"03.24\,.\,+"50..\,+"11541\,.\,+"배구.\,+"&middot\;.\,+"03.25.\,+"14:30.\,+"[V리그].\,+"한국도로공사.\,+"v.\,+"IBK기업은행\,.\,+"PK-TV\,.\,+"03.24\,.\,+"38..\,+"11540\,.\,+"축구.\,+"&middot\;.\,+"03.25.\,+"14:00.\,+"[K리그2].\,+"성남FC.\,+"v.\,+"안산그리너스\,.\,+"PK-TV\,.\,+"03.24.\,+"...2014..\,+"9..\,+"25..\,+"-.\,+"뉴스는.\,+"배달이.\,+"생명\,.\,+"신선한.\,+"'진짜.\,+"뉴스'를.\,+"독자들의.\,+"심장에.\,+"지금.\,+"배달합니다.2014..\,+"9..\,+"25..\,+"-.\,+"뉴스는.\,+"배달이.\,+"생명\,.\,+"신선한.\,+"'진짜.\,+"뉴스'를.\,+"독자들의.\,+"심장에.\,+"지금.\,+"배달합니다.이용재.\,+"박주호.\,+"김진수!!.\,+"박주호.\,+"왼발슛.\,+"멋지네요!!.\,+"전반에는.\,+"골이안터지다가.\,+"후반에.\,+"3골!!2013년.\,+"10월.\,+"15일.\,+"홍콩.\,+"스타디움에서.\,+"열린.\,+"2015.\,+"호주아시안컵.\,+"조별예선에서.\,+"홍콩과.\,+"UAE.\,+"경기가.\,+"0:4으로.\,+"끝나.\,+"홍콩팬들이.\,+"큰.\,+"실망을.\,+"...2018..\,+"1..\,+"11..\,+"-.\,+"1961년에.\,+"0-1로.\,+"친선경기에서.\,+"졌다..\,+"가장.\,+"최근.\,+"벌어진.\,+"경기는.\,+"2010년.\,+"일본에서.\,+"벌어진.\,+"동아시안.\,+"선수권.\,+"대회로에서.\,+"한국이.\,+"5-0으로.\,+"완승했다..\,+"그런데.\,+"2018.\,+"러시아.\,+"월드컵.\,+"지역예선에서....\,+"자세한.\,+"내용은.\,+"링크.\,+"참고..\,+"점점.\,+"홍콩.\,+"축구의.\,+"수준이.\,+"높아지고.\,+"있다..\,+"비록.\,+"러시아.\,+"월드컵.\,+"최종.\,+"예선.\,+"행은.\,+"힘들지.\,+"몰라도.\,+"이대로의.\,+"...2014..\,+"9..\,+"25..\,+"-.\,+"홍콩.\,+"극단적.\,+"수비.\,+"뚫고.\,+"이재성&middot\;박주호&middot\;김진수.\,+"연속골.\,+":.\,+"(고양=연합뉴스).\,+"장재은.\,+"안홍석.\,+"기자.\,+"=.\,+"한국.\,+"축구.\,+"대표팀이.\,+"홍콩의.\,+"그물.\,+"수비를.\,+"찢고.\,+"아시안게임.\,+"우승에.\,+"한.\,+"발짝.\,+"더.\,+"다가섰다.</p>
ORGANIZER:
METHOD:PUBLISH
END:VEVENT
END:VCALENDAR
