BEGIN:VCALENDAR
PRODID:-//Grails iCalendar plugin//NONSGML Grails iCalendar plugin//EN
VERSION:2.0
CALSCALE:GREGORIAN
METHOD:PUBLISH
BEGIN:VEVENT
DTSTAMP:20260422T040506Z
DTSTART;TZID=Australia/Melbourne:20180810T053000
DTEND;TZID=Australia/Melbourne:20180810T130000
SUMMARY:Buddhism and Philosophy: A Workshop with Jay L Garfield
UID:20260425T041919Z-iCalPlugin-Grails@philevents-web-6b96c54f56-bljdq
TZID:Australia/Melbourne
LOCATION:Deakin Downtown Level 12 Tower 2\, 727 Collins St\, Melbourne\, Australia
DESCRIPTION:<p><a name="_GoBack"></a><strong>Buddhism and Philosophy</strong></p>\n<p><strong>A Workshop with Professor Jay L Garfield</strong></p>\n<p><em>Deakin philosophers and invited speakers engage with themes from Prof Garfield&rsquo\;s </em>Engaging Buddhism: Why it Matters to Philosophy (Oxford 2015)</p>\n<p><strong>&nbsp\;</strong></p>\n<p><strong>Hosted by Philosophy@Deakin</strong></p>\n<p><strong>Deakin Downtown August 10 2018</strong></p>\n<p><strong>Level 12\, Tower 2</strong></p>\n<p><strong>727 Collins St</strong></p>\n<p><strong>Melbourne</strong></p>\n<p>In <em>Engaging Buddhism</em>\, Garfield states that he aimed &ldquo\;to show that we in the West can talk with\, not about\, philosophers and texts in the Buddhist tradition&rdquo\; (p.15). In this day-long workshop\, Deakin philosophers and invited speakers respond to this and other philosophical themes from the book. Themes covered include: Ethics\, phenomenology\, meditation\, self\, personal identity and comparisons and juxtapositions drawn from philosophers Wilfrid Sellars and David Hume.</p>\n<p><strong>Speakers</strong></p>\n<p>Jay Garfield (Smith College)</p>\n<p>Shaun Nichols (Uni of Arizona)</p>\n<p>Monima Chadha (Monash)</p>\n<p>Sonam Thakchoe (UTAS)</p>\n<p>John Powers &nbsp\;&nbsp\;</p>\n<p>Jack Reynolds</p>\n<p>Cathy Legg &nbsp\;</p>\n<p>Leesa Davis</p>\n<p>(Deakin)</p>\n<p><strong>The event is free and all are welcome. Please RSVP by August 7 for catering purposes (and advise any special dietary requirements) to Leesa Davis: <a href="mailto:leesa.davis@deakin.edu.au">leesa.davis@deakin.edu.au</a> with Garfield Workshop as the subject. </strong></p>\n<p>Jay L Garfield is Doris Silbert Professor in the Humanities and Professor of Philosophy\, Logic and Buddhist Studies and director of the Buddhist Studies and Logic programs at Smith College. He is also Visiting Professor of Buddhist Philosophy at Harvard Divinity School\, Professor of Philosophy at Melbourne University and Adjunct Professor of Philosophy at the Central University of Tibetan Studies. He is the author or editor of 25 books and over 150 articles and book reviews.</p>\n
ORGANIZER;CN=Leesa S. Davis:
METHOD:PUBLISH
END:VEVENT
END:VCALENDAR
