BEGIN:VCALENDAR
PRODID:-//Grails iCalendar plugin//NONSGML Grails iCalendar plugin//EN
VERSION:2.0
CALSCALE:GREGORIAN
METHOD:PUBLISH
BEGIN:VEVENT
DTSTAMP:20260424T031912Z
DTSTART;TZID=America/Chicago:20190509T090000
DTEND;TZID=America/Chicago:20190511T130000
SUMMARY:Third Meeting of the Critical Genealogies Workshop
UID:20260424T040543Z-iCalPlugin-Grails@philevents-web-6b96c54f56-bljdq
TZID:America/Chicago
LOCATION:Eugene\, Oregon\, United States\, United States
DESCRIPTION:<p>Third Meeting of the Critical Genealogies Workshop</p>\n<p><u><a href="http://criticalgenealogies.weebly.com">criticalgenealogies.weebly.com</a></u></p>\n<p>University of Oregon in Eugene\, OR</p>\n<p>May 9&ndash\;11\, 2019</p>\n<p>The <em>Critical Genealogies Workshop</em> provides a space of collaboration and experimentation for scholars who deploy genealogy in order to investigate problematizations of the contemporary. The purpose of the event is to present in-progress genealogical work so as to thematize and reflect on larger questions of research design\, strategy\, and structure and practical questions about conducting genealogical research.</p>\n<p>The format of the workshop involves pre-circulation of in-progress work. This will be a pre-read event\; participants are expected to share their papers by March 2019 and are expected to read papers from other participants prior to arrival. Concurrent sessions will feature paper presentations consisting of two sets of brief commentaries (5 minutes each) followed by group discussion (35 minutes). The event will also feature a plenary roundtable on method and research design as well as a methods workshop session.</p>\n<p>Logistical information about accommodations &amp\; transportation will be provided with program decisions. There will be no registration fees associated with this event.</p>\n<p>For further information see our website (<u><a href="http://criticalgenealogies.weebly.com">criticalgenealogies.weebly.com</a></u>) or contact CGW co-founders Verena Erlenbusch-Anderson (<u><a href="mailto:vrlnbsch@memphis.edu">vrlnbsch@memphis.edu</a></u>) and Colin Koopman (<u><a href="mailto:koopman@uoregon.edu">koopman@uoregon.edu</a></u>).</p>
ORGANIZER;CN=Verena Erlenbusch-Anderson;CN=Colin Koopman;CN=Bonnie Sheehey:
METHOD:PUBLISH
END:VEVENT
END:VCALENDAR
