BEGIN:VCALENDAR
PRODID:-//Grails iCalendar plugin//NONSGML Grails iCalendar plugin//EN
VERSION:2.0
CALSCALE:GREGORIAN
METHOD:PUBLISH
BEGIN:VEVENT
DTSTAMP:20260424T011236Z
DTSTART;TZID=America/Chicago:20181102T194500
DTEND;TZID=America/Chicago:20181102T194500
SUMMARY:Third Meeting of the Critical Genealogies Workshop
UID:20260501T001043Z-iCalPlugin-Grails@philevents-web-6b96c54f56-bljdq
TZID:America/Chicago
LOCATION:Eugene\, Oregon\, United States\, United States
DESCRIPTION:<p>Call for Papers</p>\n\n<p>Third Meeting of the Critical Genealogies Workshop</p>\n\n<p><u><a href="http://criticalgenealogies.weebly.com">criticalgenealogies.weebly.com</u></a></p>\n\n\n\n<p>University of Oregon in Eugene\, OR</p>\n\n<p>May 9&ndash\;11\, 2019</p>\n\n\n\n<p>The <em>Critical Genealogies Workshop</em> provides a space of collaboration and experimentation for scholars who deploy genealogy in order to investigate problematizations of the contemporary. The purpose of the event is to present in-progress genealogical work so as to thematize and reflect on larger questions of research design\, strategy\, and structure and practical questions about conducting genealogical research.</p>\n\n\n\n<p>We seek submissions from scholars from any disciplinary or field background who deploy genealogical methods and practices in their work: previous events have included scholars from Philosophy\, Political Science\, History\, Media Studies\, and other backgrounds. Approaching genealogy largely through the lens of Foucault and Nietzsche\, we also welcome other genealogical approaches of diverse inspiration. Above all\, we endeavor to take seriously Foucault&rsquo\;s challenges to inherited practices of philosophical critique by taking up genealogy to interrogate the history of the present.</p>\n\n\n\n<p>The format of the workshop involves pre-circulation of in-progress work. This will be a pre-read event\; participants are expected to share their papers by March 2019 and are expected to read papers from other participants prior to arrival. Concurrent sessions will feature paper presentations consisting of two sets of brief commentaries (5 minutes each) followed by group discussion (35 minutes). The event will also feature a plenary roundtable on method and research design as well as a methods workshop session. </p>\n\n\n\n<p>Please send an abstract of no more than 750 words in &ldquo\;.pdf&rdquo\; format to the event co-directors Verena Erlenbusch-Anderson (University of Memphis)\, Colin Koopman (University of Oregon)\, and Bonnie Sheehey (University of Oregon) at <u><a href="mailto:criticalgenealogies@gmail.com">criticalgenealogies@gmail.com</u></a> by Nov. 2\, 2018. Indicate &ldquo\;Critical Genealogies Workshop submission&rdquo\; in the subject line. Decisions will be conveyed by Dec. 15\, 2018.</p>\n\n\n\n<p>Logistical information about accommodations &amp\; transportation will be provided with program decisions. There will be no registration fees associated with this event.</p>\n\n\n\n<p>For further information see our website (<u><a href="http://criticalgenealogies.weebly.com">criticalgenealogies.weebly.com</u></a>) or contact CGW co-founders Verena Erlenbusch-Anderson (<u><a href="mailto:vrlnbsch@memphis.edu">vrlnbsch@memphis.edu</u></a>) and Colin Koopman (<u><a href="mailto:koopman@uoregon.edu">koopman@uoregon.edu</u></a>).</p>\n
ORGANIZER;CN=Verena Erlenbusch-Anderson;CN=Colin Koopman;CN=Bonnie Sheehey:
METHOD:PUBLISH
END:VEVENT
END:VCALENDAR
