BEGIN:VCALENDAR
PRODID:-//Grails iCalendar plugin//NONSGML Grails iCalendar plugin//EN
VERSION:2.0
CALSCALE:GREGORIAN
METHOD:PUBLISH
BEGIN:VEVENT
DTSTAMP:20260421T163328Z
DTSTART;TZID=America/Bogota:20181018T133000
DTEND;TZID=America/Bogota:20181018T163000
SUMMARY:Las lógicas de los topos de Grothendieck: inversiones de la forma y el espacio
UID:20260423T205257Z-iCalPlugin-Grails@philevents-web-6b96c54f56-bljdq
TZID:America/Bogota
LOCATION:Carrera 45\, Bogotá\, Colombia\, 111321
DESCRIPTION:<p>Resumen de la conferencia:</p>\n<p>La emergencia de los topos de Grothendieck (1962) proporcion&oacute\; una nueva unificaci&oacute\;n de las nociones cl&aacute\;sicas de n&uacute\;mero y de espacio\, a trav&eacute\;s de la noci&oacute\;n abstracta universal de haz matem&aacute\;tico (1950). Algunas de las propiedades centrales de los topos de Grothendieck fueron luego axiomatizadas en los topos elementales de Lawvere (1970)\, y se fue progresivamente observando que cada topos (entendido como universo generalizado de conjuntos variables) pose&iacute\;a su propia l&oacute\;gica.</p>\n<p>La multiplicidad de los topos\, y por consiguiente la multiplicidad de las l&oacute\;gicas\, rompe muchas preconcepciones usuales de la filosof&iacute\;a\, en particular de la filosof&iacute\;a anal&iacute\;tica. En la multiplicidad de los &aacute\;mbitos geom&eacute\;tricos de los topos\, la l&oacute\;gica cl&aacute\;sica y la teor&iacute\;a de conjuntos\, bases anal&iacute\;ticas del conocimiento\, solo representan un lugar l&iacute\;mite idealizado de inter&eacute\;s restringido. Por el contrario\, la l&oacute\;gica de los haces y la teor&iacute\;a de categor&iacute\;as\, bases sint&eacute\;ticas de un conocimiento pendular al anal&iacute\;tico\, se encuentran mucho m&aacute\;s cercanas de algunas filosof&iacute\;as de la cultura (Benjamin\, Cassirer\, Blumenberg) y de algunas fenomenolog&iacute\;as abiertas hacia lo transhumano (Peirce\, Merleau-Ponty\, Deleuze).&nbsp\;</p>\n<p>Dentro de estas l&iacute\;neas\, la geometr&iacute\;a precede demostrativamente a la l&oacute\;gica (en consonancia con los estudios neurogeom&eacute\;tricos de Petitot)\, y se deben invertir im&aacute\;genes y lenguajes\, sensibilidades y razones. Con esto se deshacen ciertos discursos filos&oacute\;ficos escler&oacute\;ticos que han quedado a la zaga de los desarrollos de la matem&aacute\;tica en la segunda mitad del siglo XX\, y se abren nuevas perspectivas para una creatividad filos&oacute\;fica din&aacute\;mica m&aacute\;s propia del siglo XXI.</p>\n<p>Esta conferecia hace parte del evento <em>Filosof&iacute\;a de la ciencia y filosof&iacute\;a de la mente</em> que organiza el Centro de investigaci&oacute\;n en l&oacute\;gica y epistemolog&iacute\;a contempor&aacute\;nea (CILEC) de la Universidad Nacional de Colombia.</p>\n<p>El evento tendr&aacute\; trece conferencias a cargo de algunos acad&eacute\;micos que son especialistas en los temas en cuesti&oacute\;n. El curso empezar&aacute\; el 30 de agosto y culminar&aacute\; el seis de diciembre de este a&ntilde\;o. Las conferencias tendr&aacute\;n lugar los jueves de 5:30 a 8:30 en el edificio Rogelio Salmona de la Universidad Nacional. Para cada conferencia\, se lasignanar&aacute\;n una serie de textos seleccionados por el conferencista para hacer una introducci&oacute\;n al tema que se tratar&aacute\;. Al final de cada sesi&oacute\;n\, se dispondr&aacute\; de un espacio para preguntas. Por &uacute\;ltimo\, al final del evento se le entregar&aacute\; un certificado de participaci&oacute\;n.&nbsp\;</p>\n<p>Para informaci&oacute\;n sobre el proceso de inscripci&oacute\;n y descuentos enviar un correo a: cilec.info@gmail.com o a cilec_fchbog@unal.edu.co</p>
ORGANIZER;CN="Cilec- Centro de Investigación en Lógica y Epistemología Contemporánea":
METHOD:PUBLISH
END:VEVENT
END:VCALENDAR
