BEGIN:VCALENDAR
PRODID:-//Grails iCalendar plugin//NONSGML Grails iCalendar plugin//EN
VERSION:2.0
CALSCALE:GREGORIAN
METHOD:PUBLISH
BEGIN:VEVENT
DTSTAMP:20260421T015007Z
DTSTART;TZID=Europe/London:20120509T100000
DTEND;TZID=Europe/London:20120510T180000
SUMMARY:Scottish Seminar in Early Modern Philosophy III
UID:20260421T233855Z-iCalPlugin-Grails@philevents-web-6b96c54f56-bljdq
TZID:Europe/London
LOCATION:Aberdeen\, United Kingdom
DESCRIPTION:<p>The SSEMP is a yearly event that brings together established scholars\, young researchers and advanced graduate students working in the field of Early Modern Philosophy.&nbsp\;</p>\n<p>This year\, the event will take place in the brand new Queen Mother Library&nbsp\;on campus. For more info on the location\, see:&nbsp\;<a target="_blank">http://www.abdn.ac.uk/library/about/main</a>. Please note that the SSEMP cannot&nbsp\;provide funding for travel or accommodation. Information concerning possible&nbsp\;hotels and B&amp\;B&rsquo\;s close to campus will be provided once the program is set.<br><br>For those who might consider staying a couple of days extra\, note that the&nbsp\;British Society for the History of Philosophy Annual Conference will take&nbsp\;place immediately after\, on 11-12 May\, at the University of Dundee\, about 1&nbsp\;1/2 hours train ride south of Aberdeen. The theme of this conference is:&nbsp\;&ldquo\;Spinoza\, the Infinite and the Eternal.&rdquo\; For further information and the&nbsp\;call for papers\, see:&nbsp\;<a target="_blank">http://spinozaresearchnetwork.wordpress.com</a></p>\n\n<p><strong>Program<br><br>Wednesday\, 9 May</strong><br><br>9.00-9.15 Welcome and Coffee. Sponsored by Oxford University Press.<br><br><em>Session I: Locke</em><br>Chair: Mogens L&aelig\;rke (University of Aberdeen / ENS de Lyon)<br><br>9.15-10.00 Ruth Boeker (University of St. Andrews)\, &ldquo\;'Locke on Persons and&nbsp\;Personal Identity.&rdquo\;<br><br>10.00-10.45 Dietmar Heidemann (University of Luxemburg)\, &ldquo\;Self-Knowledge&nbsp\;and Intuition. Locke&rsquo\;s Critique of Descartes.&rdquo\;<br><br>10.45-11.00 Break<br><br><em>Key Note Speech</em><br>Chair: Julie Klein (University of Villanova\, Philadelphia)<br><br>11.00-12.00 Stephen Gaukroger (University of Aberdeen / University of&nbsp\;Sydney)\, &ldquo\;Sensibility and Metaphysics: &ldquo\;Diderot\, Hume\, Baumgarten\, and&nbsp\;Herder.&rdquo\;<br><br>12.00-13.30 Lunch at the Bishop&rsquo\;s Table (Speakers and chairs only)<br><br><em>Session II: Leibniz<br></em>Chair: Emily Thomas (Cambridge University)<br><br>13.30-14.15 Matteo Favaretti Camposamieri (Universit&agrave\; Ca' Foscari&nbsp\;Venezia)\, &ldquo\;De veris et falsis ideis. Leibniz on Ideas as Truth-Bearers.&rdquo\;<br><br>14.15-15.00 Larry Jorgensen (Skidmore College\, Saratoga Springs\,&nbsp\;NY)\, &ldquo\;Leibnizian Naturalism.&rdquo\;<br><br>15.00-15.30 Break<br><br><em>Session III: Spinoza I</em><br>Chair: Beth Lord (University of Dundee)<br><br>15.30-16.15 Markku Roinila (University of Edinburgh / University of&nbsp\;Helsinki)\, &ldquo\;Leibniz and Spinoza on Affects and Perception.&rdquo\;<br><br>16.15-17.00 Jon Miller (Queen&rsquo\;s University\, Kingston\, Ontario)\, &ldquo\;Spinoza&nbsp\;on the Life According to Nature.&rdquo\;<br><br><strong></strong></p>\n<p><strong>Thursday\, 10 May</strong><br><br>9.00-9.15 Coffee<br><br><em>Session IV: History of Philosophy and History of Science<br></em>Chair: Justin Steinberg (Brooklyn College\, City University of New York)<br><br>9.15-10.00 Michael Olson (University of Villanova\, Philadelphia)\, &ldquo\;The&nbsp\;Camera Obscura and the Nature of the Soul: An Examination of Early 18th&nbsp\;Century German Metaphysics and Natural Science.&rdquo\;<br><br>10.00-10.45 Gabriel Alban-Zapata (ENS de Lyon)\, &ldquo\;Pierre Chanet's&nbsp\;Psychophysiology and Louis de La Forge&rsquo\;s reconstruction of the Cartesian&nbsp\;theory of mind.&rdquo\;<br><br>10.45-11.00 Break<br><br><em>Key Note Speech</em><br>Chair: Catherine Wilson (University of Aberdeen)<br><br>11.00-12.00 Yitzhak Melamed (Johns Hopkins University\,&nbsp\;Baltimore)\, &ldquo\;Spinoza&rsquo\;s Mereology.&rdquo\;<br><br>12.00-13.30 Lunch at The Bishop&rsquo\;s Table (speakers and chairs only)<br><br><em>Session V: Hobbes and Hume</em><br>Chair: Michael LeBuffe (Texas A&amp\;M)<br><br>13.30-14.15 Martine Pecharman (CNRS &ndash\; Maison Fran&ccedil\;aise d&rsquo\;Oxford)\, &ldquo\;Hobbes&nbsp\;on Human Nature and Language.&rdquo\;<br><br>14.15-15.00 Dario Perinetti (UQAM\, Montreal)\, &ldquo\;Morality and the Historical&nbsp\;Point of view: Reading Hume&rsquo\;s A Dialogue.&rdquo\;<br><br>15.00-15.30 Break<br><br><em>Session VI: Spinoza II</em><br>Chair: Valtteri Viljanen (University of Turku)<br><br>15.30-16.15 Andrea Sangiacomo (ENS de Lyon)\, &ldquo\;What a Body can do: Spinoza&nbsp\;against Occasionalism.&rdquo\;<br><br>16.15-17.00 Eric Schliesser (University of Ghent)\, &ldquo\;Spinoza and the&nbsp\;Newtonians on Motion and Matter (and God\, of course).&rdquo\;<br><br>There is no registration fee. All are welcome to attend.<br><br>Organization: Mogens L&aelig\;rke (University of Aberdeen / CERPHI\, ENS de Lyon).<br>Contact:&nbsp\;<a href="mailto:m.laerke@abdn.ac.uk">m.laerke@abdn.ac.uk</a><br></p>
ORGANIZER;CN=Mogens Laerke:
METHOD:PUBLISH
END:VEVENT
END:VCALENDAR
