BEGIN:VCALENDAR
PRODID:-//Grails iCalendar plugin//NONSGML Grails iCalendar plugin//EN
VERSION:2.0
CALSCALE:GREGORIAN
METHOD:PUBLISH
BEGIN:VEVENT
DTSTAMP:20260421T170447Z
DTSTART;TZID=America/New_York:20181011T090000
DTEND;TZID=America/New_York:20181011T100000
SUMMARY:To Be Announced
UID:20260423T215853Z-iCalPlugin-Grails@philevents-web-6b96c54f56-bljdq
TZID:America/New_York
LOCATION:Cambridge\, United States
ORGANIZER:
METHOD:PUBLISH
END:VEVENT
END:VCALENDAR
