BEGIN:VCALENDAR
PRODID:-//Grails iCalendar plugin//NONSGML Grails iCalendar plugin//EN
VERSION:2.0
CALSCALE:GREGORIAN
METHOD:PUBLISH
BEGIN:VEVENT
DTSTAMP:20260421T101138Z
DTSTART;TZID=Australia/Melbourne:20181109T050000
DTEND;TZID=Australia/Melbourne:20181109T120000
SUMMARY:Phenomenology and pragmatism
UID:20260423T023341Z-iCalPlugin-Grails@philevents-web-6b96c54f56-bljdq
TZID:Australia/Melbourne
LOCATION:221 Burwood Highway\, Burwood\, Melbourne\, Australia\, 3125
DESCRIPTION:<p>Recently there has been increasing interest worldwide in how the &lsquo\;Pittsburgh School of Philosophy&rsquo\;\, which builds on Wilfrid Sellars&rsquo\; rich body of philosophical writings\, can bring fresh perspectives to epistemology and philosophy of mind. Sellars&rsquo\; searching philosophical analysis of &lsquo\;experience&rsquo\; in works such as Empiricism and the Philosophy of Mind has been used to unite and enrich discussions in traditionally experience-focussed philosophical traditions such as phenomenology and pragmatism. Meanwhile\, Sellars&rsquo\; distinctive scientific naturalism has birthed new empirically-informed theories of mind in his students Ruth Millikan and Paul Churchland. &nbsp\;</p>\n<p>Carl&nbsp\;Sachs&rsquo\; recent book Intentionality and the Myths of the Given: Between Pragmatism and Phenomenology deftly bridges all these debates. Being indebted to Merleau-Ponty&rsquo\;s philosophy of perception and his treatment of embodied habits\, it also opens the prospect for collaboration with contemporary versions of embodied phenomenology that are empirically-informed\, like Shaun Gallagher&rsquo\;s Enactivist Interventions: Rethinking the Mind. We are using the opportunity of a research visit by both philosophers to Deakin University to organise a workshop around these themes. &nbsp\;</p>\n<p>PROGRAM: &nbsp\;</p>\n<p>10 a.m. Shaun Gallagher (Memphis) - "Anchoring Know-How: Action\, Affordance and Anticipation"</p>\n<p>11 a.m. Jack Reynolds (Deakin) - "Argument and Phenomenology"</p>\n<p>12 p.m. LUNCH</p>\n<p>1 p.m. Cathy Legg (Deakin) - "Pragmatism as Non-Conceptual Content: Its Scope and Limits"</p>\n<p>2 p.m. Ross Pain (ANU) - "Carnap and Sellars on the Problem of Universals".</p>\n<p>3 p.m. Break</p>\n<p>3.30 p.m. Carl Sachs&nbsp\;(Marymount) - "Why Rules Need Habits: Insights from Sellars"</p>\n<p>4.30 p.m. AFTERNOON TEA AND DISCUSSION &nbsp\; &nbsp\;</p>\n<p>If you&rsquo\;d like to attend\, please email Cathy Legg (<a href="mailto:c.legg@deakin.edu.au">c.legg@deakin.edu.au</a>).&nbsp\;</p>
ORGANIZER;CN=Cathy Legg;CN=Jack Alan Reynolds:
METHOD:PUBLISH
END:VEVENT
END:VCALENDAR
