BEGIN:VCALENDAR
PRODID:-//Grails iCalendar plugin//NONSGML Grails iCalendar plugin//EN
VERSION:2.0
CALSCALE:GREGORIAN
METHOD:PUBLISH
BEGIN:VEVENT
DTSTAMP:20260421T163241Z
DTSTART;TZID=America/New_York:20190406T051500
DTEND;TZID=America/New_York:20190406T130000
SUMMARY:12th Annual UAPA Graduate Philosophy Conference in Experimental Philosophy
UID:20260423T205201Z-iCalPlugin-Grails@philevents-web-6b96c54f56-bljdq
TZID:America/New_York
LOCATION:1400 Washington Avenue\, Albany\, United States\, 12222
DESCRIPTION:<p>The University at Albany Philosophical Association would like to invite any one interested in our annual graduate student conference: &nbsp\;</p>\n<p>12th Annual University at Albany Philosophical Association Graduate Conference in Experimental Philosophy</p>\n<p>April 6th\, 2019</p>\n<p>University at Albany\, SUNY</p>\n<p>1400 Washington Avenue Albany\, NY</p>\n<p>Humanities 354 &nbsp\;</p>\n<p>Schedule: 9:15-10:00: Light Breakfast</p>\n<p>10:00-10:55: Rebecca Carlson (Hillsdale College) &ldquo\;Conflicting Intuitions? Applying Bayesian Epistemology and Experimental Philosophy to the Problem of Evil&rdquo\;</p>\n<p>Commentator: Scott Wolcott (University at Albany\, SUNY) &nbsp\;</p>\n<p>11:00-11:55: Alexander Max Bauer (University of Oldenburg) &ldquo\;Experiments on Needs-Based Justice &ndash\; When Marginal Gains to the Poor do not Matter&rdquo\;</p>\n<p>Commentator: Sydney Faught (University at Albany\, SUNY) &nbsp\;</p>\n<p>12:00-1:00: Lunch</p>\n<p>1:00-1:55: Michael Prinzing (University of North Carolina\, Chapel Hill) &ldquo\;The folk concept of a meaningful life: Subjectivist or objectivist?&rdquo\;</p>\n<p>Commentator: Will Kidder (University at Albany\, SUNY) &nbsp\;</p>\n<p>2:00-2:55: Alexandra Nolte (Florida State University) &ldquo\;Experimental Evidence that Knowledge Entails Justification&rdquo\;</p>\n<p>Commentators: Evan Malone (University at Albany\, SUNY) &nbsp\;</p>\n<p>3:30-5:00: Keynote Speaker: Joshua Knobe (Yale University) &ldquo\;The Essence of Psychological Essentialism&rdquo\; &nbsp\;</p>\n<p>Catered dinner reception to follow. &nbsp\;</p>\n<p>Any questions\, please contact UAPA President George Kassimis (email:&nbsp\;gkassimis@albany.edu)</p>
ORGANIZER;CN=George Kassimis:
METHOD:PUBLISH
END:VEVENT
END:VCALENDAR
