BEGIN:VCALENDAR
PRODID:-//Grails iCalendar plugin//NONSGML Grails iCalendar plugin//EN
VERSION:2.0
CALSCALE:GREGORIAN
METHOD:PUBLISH
BEGIN:VEVENT
DTSTAMP:20260421T145140Z
DTSTART;TZID=America/New_York:20190120T040000
DTEND;TZID=America/New_York:20190120T040000
SUMMARY:12th Annual UAPA Graduate Philosophy Conference in Experimental Philosophy
UID:20260423T163449Z-iCalPlugin-Grails@philevents-web-6b96c54f56-bljdq
TZID:America/New_York
LOCATION:Albany\, United States
DESCRIPTION:<p>"Rage Against the Armchair"</p>\n<p>We invite graduate students to submit papers that use Experimental Philosophy methods. Other philosophy papers based on empirical research will also be considered. These papers can explore any topic in philosophy\, but they <strong>must</strong> be empirically based. Papers should be suitable for a 25 to 30 minute presentation (approximately 3\,000-4\,000 words).</p>\n<p>All submissions should be prepared for blind review and should include a separate document containing the following information: your name\, paper title\, an abstract of approximately 150 to 250 words\, institutional affiliation\, e-mail address\, phone number\, and where you saw this call for papers. Please submit papers via e-mail with &ldquo\;2019 Conference Submission&rdquo\; in the subject line. Acceptable formats are MS Word documents\, RTF files\, or PDF files. Please send submissions to&nbsp\;<strong>uapa.submission@gmail.com</strong><strong>.</strong></p>\n<p><strong>Please note:&nbsp\;</strong>Housing can be provided for graduate student speakers. In addition\, conference registration and all meals on the day of the conference are free for all conference attendees.</p>\n<p><strong>Submission deadline: Wednesday\, January 20th\, 2019</strong></p>\n<p>For more information about the conference or about the submission requirements\, please contact George Kassimis at&nbsp\;gkassimis@albany.edu.</p>
ORGANIZER;CN=George Kassimis:
METHOD:PUBLISH
END:VEVENT
END:VCALENDAR
