BEGIN:VCALENDAR
PRODID:-//Grails iCalendar plugin//NONSGML Grails iCalendar plugin//EN
VERSION:2.0
CALSCALE:GREGORIAN
METHOD:PUBLISH
BEGIN:VEVENT
DTSTAMP:20260423T130211Z
DTSTART;TZID=Europe/Amsterdam:20200824T050000
DTEND;TZID=Europe/Amsterdam:20200828T130000
SUMMARY:ECAP10 - The Tenth European Congress of Analytic Philosophy
UID:20260429T140809Z-iCalPlugin-Grails@philevents-web-6b96c54f56-bljdq
TZID:Europe/Amsterdam
LOCATION:Utrecht\, Netherlands
DESCRIPTION:<p>The European Society for Analytic Philosophy (ESAP) organizes a major congress every three years. The tenth European Congress of Analytic Philosophy (ECAP 10) will take place at Utrecht University\, The Netherlands\, from August 24 to 28\, 2020.</p>\n<p>The goal of this congress is to bring together analytic philosophers from Europe and all over the world to discuss their work and to exchange ideas.</p>\n<p>Keynotes</p>\n<p>&bull\; Quassim Cassam</p>\n<p>&bull\; Kathrin Gl&uuml\;er</p>\n<p>&bull\; Cristina Bicchieri</p>\n\n<p>The call for contributed papers and symposia for ECAP 10 is now</p>\n<p>open. You can submit until 12 January 2020 under:</p>\n\n<p>https://easychair.org/cfp/ECAP10</p>\n\n<p>We&rsquo\;re looking forward to receiving your submissions.</p>\n\n<p>If you&rsquo\;ve got any inquiries\, you can reach the organizers under ECAP10@uu.nl.</p>\n\n<p><strong>Conference fees</strong></p>\n<p>Regular Fee. Early bird: 200&euro\;\, late bird: 300&euro\;</p>\n<p>Student Fee. Early bird: 70&euro\;\, late bird: 100&euro\;</p>\n<p>The early bird fee is applicable until April 1\, 2020.</p>\n\n<p><strong>Accommodation</strong></p>\n<p>There is a limited number of hotel rooms available at a special ECAP rate. You can book under:</p>\n\n<p>https://bookingbydesign.com/index.php?c_id=218</p>\n\n<p>Keep in mind that accommodation in Utrecht is limited\, especially in the summer\, so book early.</p>\n\n<p><strong>Important Dates</strong></p>\n<p>31 January\, 2020&nbsp\; &nbsp\; &nbsp\; &nbsp\; &nbsp\; (Extended) Submission Deadline</p>\n<p>15 March\, 2020&nbsp\; &nbsp\; &nbsp\; &nbsp\; &nbsp\; &nbsp\; &nbsp\;Notification of Acceptance</p>\n<p>1 April\, 2020&nbsp\; &nbsp\; &nbsp\; &nbsp\; &nbsp\; &nbsp\; &nbsp\; &nbsp\; &nbsp\;Early Registration Deadline</p>\n<p>24-28 August\, 2020&nbsp\; &nbsp\; &nbsp\; &nbsp\;Conference</p>
ORGANIZER;CN=Daniel Cohnitz;CN=Johannes Korbmacher:
METHOD:PUBLISH
END:VEVENT
END:VCALENDAR
