BEGIN:VCALENDAR
PRODID:-//Grails iCalendar plugin//NONSGML Grails iCalendar plugin//EN
VERSION:2.0
CALSCALE:GREGORIAN
METHOD:PUBLISH
BEGIN:VEVENT
DTSTAMP:20260422T190710Z
DTSTART;TZID=Europe/London:20120115T090000
DTEND;TZID=Europe/London:20120115T090000
SUMMARY:Phenomenology\, Aesthetics and the Arts
UID:20260427T074117Z-iCalPlugin-Grails@philevents-web-6b96c54f56-bljdq
TZID:Europe/London
LOCATION:Cork\, Ireland
DESCRIPTION:<p>Phenomenology has always been closely associated with aesthetics and the\n arts. Even Husserl\, who conceives it as a 'rigorous science'\, remarks \non the close relation between phenomenological reflection and \n'disinterested' aesthetic judgment. The later Heidegger\, although \ndismissive of aesthetics\, describes poetic art as the 'happening of \ntruth' and the 'opening of the world'. Merleau-Ponty hopes to find in \nartistic practice clues for a practice of phenomenology as an embodied \nalternative to scientistic and intellectualist models of inquiry. We \nshould remember also the contributions made to phenomenology\, \naesthetics\, and reflections on the arts by Sartre\, Levinas\, Ricoeur\, \nIngarden\, Dufrenne\, De Beauvoir\, and Hartmann among others. More \ngenerally\, hermeneutic and later post-structuralist strands of \nphenomenology\, with their emphasis on interpretation and textuality over\n and against purely logical or causal explanation\, often pitch their \ncritiques in artistic\, or literary\, modes of engagement.<br> <br> Artists\, in turn\, find in phenomenology a type of philosophical \nreflection that offers ways of thinking about the complex embodied and \nsocial experiences of their practice. In particular\, phenomenological \napproaches have been exploited as alternatives to the earlier conceptual\n turn in art making. Now it is time to rethink the relations between \nphenomenology\, aesthetics and the arts in contemporary contexts of new \npolitical\, wider social and scientific developments.<br> <br> The British Society for Phenomenology and the newly established Irish \nPhenomenological Circle have joined together for this conference in \norder to unite international voices from both philosophical and artistic\n fields for an open discussion of the potential contributions \nphenomenology can make to philosophical and artistic practices and \ndebates.</p>\n\n<p>If you are interested in reading a paper at the conference\, please send \nan abstract of approx. 1000 words by 15 January\, 2012 to <a href="mailto:bsp.ipc.2012@gmail.com">bsp.ipc.2012@gmail.com</a>.</p>
ORGANIZER:
METHOD:PUBLISH
END:VEVENT
END:VCALENDAR
