BEGIN:VCALENDAR
PRODID:-//Grails iCalendar plugin//NONSGML Grails iCalendar plugin//EN
VERSION:2.0
CALSCALE:GREGORIAN
METHOD:PUBLISH
BEGIN:VEVENT
DTSTAMP:20260422T042932Z
DTSTART;TZID=Europe/Zurich:20120216T110000
DTEND;TZID=Europe/Zurich:20120217T170000
SUMMARY:Resource Rights and Sustainable Resource Management
UID:20260425T050219Z-iCalPlugin-Grails@philevents-web-6b96c54f56-bljdq
TZID:Europe/Zurich
LOCATION:Zürich\, Switzerland
DESCRIPTION:<p>In times of increasing resource scarcity\, mass poverty and rapid \nenvironmental degeneration this workshop seeks to analyse the normative \nand political challenges for achieving the aim of just and sustainable \nresource management. The workshop brings together a range of \ninternational experts who will address (among others) the issues of what\n resource rights are\, which claims people have to existing resources\, \nwhat guidelines trade in\nnatural resources should follow\, which institutions effective \nenvironmental resource governance requires\, and what the demands of just\n and sustainable resource management actually are.</p>\n<p><br> Speakers include:</p>\n<p>Tim Hayward (Edinburgh)<br>Regina Kreide (Giessen)<br>Chris Armstrong (Southampton)<br>Cara Nine (Cork)<br>Leif Wenar (London)<br>Laurence Tubiana (Paris)<br>Christian Seidel (Zurich) <br>Avery Kolers (Louisville)<br>Fabian Schuppert (Zurich)</p>\n<p><br> The workshop will take place on February 16th and 17th 2012 at the Centre for Ethics of the University of Zurich\, Switzerland.\nParticipation in the workshop is free. However\, as places are limited\, please register beforehand at fabian.schuppert[@]<a target="_blank">ethik.uzh.ch</a></p>
ORGANIZER:
METHOD:PUBLISH
END:VEVENT
END:VCALENDAR
