BEGIN:VCALENDAR
PRODID:-//Grails iCalendar plugin//NONSGML Grails iCalendar plugin//EN
VERSION:2.0
CALSCALE:GREGORIAN
METHOD:PUBLISH
BEGIN:VEVENT
DTSTAMP:20260421T181941Z
DTSTART;TZID=America/Toronto:20190715T050000
DTEND;TZID=America/Toronto:20190715T050000
SUMMARY:The Conscious Machine
UID:20260424T015804Z-iCalPlugin-Grails@philevents-web-6b96c54f56-bljdq
TZID:America/Toronto
DESCRIPTION:<p>The Department of Philosophy at Azusa Pacific University has a Call for Arguments as part of a research initiative studying consciousness in relation to Artificial Intelligence. Two winners will be selected and awarded $100. We invite you to pass this call for arguments along to any philosophers and students who may be interested in participating.The deadline for submissions is July 15th.</p>
ORGANIZER:
METHOD:PUBLISH
END:VEVENT
END:VCALENDAR
