BEGIN:VCALENDAR
PRODID:-//Grails iCalendar plugin//NONSGML Grails iCalendar plugin//EN
VERSION:2.0
CALSCALE:GREGORIAN
METHOD:PUBLISH
BEGIN:VEVENT
DTSTAMP:20260423T143109Z
DTSTART;TZID=Australia/Sydney:20190819T053000
DTEND;TZID=Australia/Sydney:20190819T130000
SUMMARY:An investigation into truthfulness as a moral norm in dementia care
UID:20260429T191022Z-iCalPlugin-Grails@philevents-web-6b96c54f56-bljdq
TZID:Australia/Sydney
LOCATION:17 Blue Street\, North Sydney\, Australia
DESCRIPTION:<p>This one-day workshop will bring together scholars from philosophy\, psychiatry\, cognitive science\, and clinical neuropsychology (among others)\, to discuss questions of truthfulness and authenticity in dementia care. While we typically view truth-telling as a moral norm of discourse\, implicitly recognising that untruthfulness undermines epistemic autonomy\, this norm is not always observed in the context of caring for and relating to people with dementia. For example: by suggesting that a loved one has visited recently\, while knowing this to be untrue\; by playing a recording of a loved one&rsquo\;s voice on a telephone\, presenting it as a &lsquo\;live&rsquo\; conversation\; or by stylistically presenting a care home with domestic interiors that are intended to disguise the institutional nature of the setting (e.g.\, Hogeway Dementia Village in the Netherlands). Yet there can be moral reasons supporting such practices\, reasons deriving from respect for\, and the well being of\, persons with dementia and their families. In this workshop we will investigate these questions from a philosophical perspective with possible topics to include (but not <a name="_GoBack"></a>limited to) the limits of untruthful speech\, caregiver relationships\, intimacy and truthfulness\, the authenticity of care environments\, holding persons in dignity and identity when their self-concept remains frozen in the past\, the question of whether untruthfulness undermines respect for the role of care-giving\, and the question of truthfulness and stigma.</p>
ORGANIZER;CN=Steve Matthews:
METHOD:PUBLISH
END:VEVENT
END:VCALENDAR
