BEGIN:VCALENDAR
PRODID:-//Grails iCalendar plugin//NONSGML Grails iCalendar plugin//EN
VERSION:2.0
CALSCALE:GREGORIAN
METHOD:PUBLISH
BEGIN:VEVENT
DTSTAMP:20260424T200806Z
DTSTART;TZID=Europe/Paris:20130411T100000
DTEND;TZID=Europe/Paris:20130412T180000
SUMMARY:Identity and Paradox
UID:20260426T010629Z-iCalPlugin-Grails@philevents-web-6b96c54f56-bljdq
TZID:Europe/Paris
LOCATION:Lille\, France
DESCRIPTION:<p>On the one hand\, the concept of identity naturally enters the discussion concerning many types of&nbsp\;paradox that are not\, primarily\, about identity itself. On the other hand\, there are a number of&nbsp\;paradoxes considered as paradoxes of identity in which identity is apparently the concept<br>generating the paradox (e.g.\, the ship of Theseus paradox\, Chrysippus's paradox\, the paradox of&nbsp\;change\, the paradox of constitution).<br><br>The goal of the workshop is to discuss philosophical\, logical and linguistic aspects of paradoxes in&nbsp\;which the notion of identity plays a role. More specifically\, we wish to examine whether the so-called paradoxes of identity really are paradoxes of identity in the sense that their paradoxicality is&nbsp\;primarily connected to the concept of identity\; and we want to investigate the role of concepts of&nbsp\;identity in connection with the formulation/solution of other types of paradoxes.</p>\n<p>Organizers: Giuseppina Ronzitti (STL)\, Tero Tulenheimo (STL\, Lille 3)</p>\n<p>Contact:&nbsp\;ronzitti@gmail.com\,&nbsp\;tero.tulenheimo@univ-lille3.fr</p>\n<p>Attendance is free\, but space is limited. Anyone who is interested in&nbsp\;attending should register with Matthieu Gallais&nbsp\;(<a#1155cc\;target="_blank">matthieu.gallais@gmail.com</a>)&nbsp\;by March 31\, 2013.</p>
ORGANIZER:
METHOD:PUBLISH
END:VEVENT
END:VCALENDAR
