BEGIN:VCALENDAR
PRODID:-//Grails iCalendar plugin//NONSGML Grails iCalendar plugin//EN
VERSION:2.0
CALSCALE:GREGORIAN
METHOD:PUBLISH
BEGIN:VEVENT
DTSTAMP:20260424T220637Z
DTSTART;TZID=Europe/London:20130116T090000
DTEND;TZID=Europe/London:20130116T090000
SUMMARY:Identity and Paradox
UID:20260426T060321Z-iCalPlugin-Grails@philevents-web-6b96c54f56-bljdq
TZID:Europe/London
LOCATION:Lille\, France
DESCRIPTION:<p>On the one hand\, the concept of identity naturally enters the discussion concerning many types of&nbsp\;paradox that are not\, primarily\, about identity itself. On the other hand\, there are a number of&nbsp\;paradoxes considered as paradoxes of identity in which identity is apparently the concept<br>generating the paradox (e.g.\, the ship of Theseus paradox\, Chrysippus's paradox\, the paradox of&nbsp\;change\, the paradox of constitution).<br><br>The goal of the workshop is to discuss philosophical\, logical and linguistic aspects of paradoxes in&nbsp\;which the notion of identity plays a role. More specifically\, we wish to examine whether the so-called paradoxes of identity really are paradoxes of identity in the sense that their paradoxicality is&nbsp\;primarily connected to the concept of identity\; and we want to investigate the role of concepts of&nbsp\;identity in connection with the formulation/solution of other types of paradoxes.</p>\n<p>We invite submissions presenting novel contributions to the topic from the viewpoints of&nbsp\;philosophy\, logic and/or linguistics. Up to 4 papers will be accepted for presentation at the&nbsp\;workshop.<br><br>Possible topics include\, but are not limited to\, the following:</p>\n<ul>\n<li>Identity and logic</li>\n<li>Identity\, change\, &nbsp\;and paradox</li>\n<li>Identity\, composition\, and paradox</li>\n<li>Identity\, counting\, and paradox</li>\n<li>Relative identity and paradox</li>\n</ul>\n<p><strong>Submission details</strong><br><br>Papers should be between 3000 and 4000 words in length and should be suitable for a 30-minute&nbsp\;presentation. All papers should be prepared for blind review and should be emailed as attached&nbsp\;pdf-files to the organizers:&nbsp\;ronzitti@gmail.com</a>\,&nbsp\;tero.tulenheimo@univ-lille3.fr</a>. The deadline is&nbsp\;January 16\, 2013.<br><br><strong>Important dates:</strong><br><br>Submission deadline: January 16\, 2013<br>Notification of acceptance: February 28\, 2013<br>Workshop: April 11-12\, 2013</p>\n<p>Organizers: Giuseppina Ronzitti (STL)\, Tero Tulenheimo (STL\, Lille 3)</p>\n<p>Contact:&nbsp\;ronzitti@gmail.com\,&nbsp\;tero.tulenheimo@univ-lille3.fr</p>
ORGANIZER:
METHOD:PUBLISH
END:VEVENT
END:VCALENDAR
