BEGIN:VCALENDAR
PRODID:-//Grails iCalendar plugin//NONSGML Grails iCalendar plugin//EN
VERSION:2.0
CALSCALE:GREGORIAN
METHOD:PUBLISH
BEGIN:VEVENT
DTSTAMP:20260423T153732Z
DTSTART;TZID=America/Sao_Paulo:20191008T050000
DTEND;TZID=America/Sao_Paulo:20191010T130000
SUMMARY:2019 Interdisciplinary Colloquium on Probability Theory: Philosophy\, Physics\, and Mathematics at Crossroads
UID:20260429T223050Z-iCalPlugin-Grails@philevents-web-6b96c54f56-bljdq
TZID:America/Sao_Paulo
LOCATION:rua do Anfiteatro\, 513\, São Paulo\, Brazil
DESCRIPTION:<p>Employment and the discussion of concepts related to probability have gradually occupied a prominent position in the contemporary philosophical debate. In particular\, it became difficult to understand contributions from areas such as epistemology and philosophy of science without&nbsp\;minimally&nbsp\;knowing definitions and results of probability theory. From this scenario\, an interdisciplinary collaboration between philosophers and other investigators\, such as mathematicians\, physicists\, statisticians\, and computer scientists\, has emerged internationally.</p>\n<p>This Colloquium aims to contribute to the formation of an interdisciplinary working group on Philosophy and Probability in Brazil. Therefore\, it seeks not only to gather and promote research in this area\, but also to instrumentalize and prepare students interested in initiating research in it. Thus\, the initiative encourages both a basic training in Philosophy and Probability\, and research on related topics.</p>
ORGANIZER;CN=Pedro Bravo De Souza;CN=Pablo Mariconda;CN="André Neiva";CN=Osvaldo Pessoa Junior;CN=Diana Taschetto:
METHOD:PUBLISH
END:VEVENT
END:VCALENDAR
