BEGIN:VCALENDAR
PRODID:-//Grails iCalendar plugin//NONSGML Grails iCalendar plugin//EN
VERSION:2.0
CALSCALE:GREGORIAN
METHOD:PUBLISH
BEGIN:VEVENT
DTSTAMP:20260423T170706Z
DTSTART;TZID=America/Sao_Paulo:20190906T194500
DTEND;TZID=America/Sao_Paulo:20190906T194500
SUMMARY:2019 Interdisciplinary Colloquium on Probability Theory: Philosophy\, Physics\, and Mathematics at Crossroads
UID:20260430T030653Z-iCalPlugin-Grails@philevents-web-6b96c54f56-bljdq
TZID:America/Sao_Paulo
LOCATION:rua do Anfiteatro\, 513\, São Paulo\, Brazil
DESCRIPTION:<p>Proposers of communications must register their work using the form below. They will be selected according to the following criteria: expository clarity\, argumentative rigor\, and thematic pertinence to the interdisciplinary discussion on probability theory. In this sense\, submissions related to probability theory and its applications in the areas of philosophy\, physics\, and mathematics are welcome. The deadline is September 6.</p>\n<p>The abstract must contain 400 to 500 words in Portuguese or English\, including the title\, the proposer's institutional affiliation\, and electronic address. Allowed file formats: DOC\, DOCX\, TEX. Required font: Times New Roman size 12\, with single spacing.</p>\n<p>The abstracts will be sent to a member of the Scientific Committee\, who will prepare an opinion on the merits of the work\, according to the&nbsp\;previously&nbsp\;presented&nbsp\;criteria.</p>\n<p>The Organizing Committee will notify the authors of the&nbsp\;evaluation's&nbsp\;result by September 27. The communications will be grouped into sessions with five of them. There will be 20 minutes available for presentations and additional 20 minutes for discussion.</p>\n\n
ORGANIZER;CN=Pedro Bravo De Souza;CN=Pablo Mariconda;CN="André Neiva";CN=Osvaldo Pessoa Junior;CN=Diana Taschetto:
METHOD:PUBLISH
END:VEVENT
END:VCALENDAR
