BEGIN:VCALENDAR
PRODID:-//Grails iCalendar plugin//NONSGML Grails iCalendar plugin//EN
VERSION:2.0
CALSCALE:GREGORIAN
METHOD:PUBLISH
BEGIN:VEVENT
DTSTAMP:20260425T034537Z
DTSTART;TZID=America/New_York:20200418T050000
DTEND;TZID=America/New_York:20200418T130000
SUMMARY:Ohio Philosophical Association 2020 Annual Meeting
UID:20260426T135900Z-iCalPlugin-Grails@philevents-web-6b96c54f56-bljdq
TZID:America/New_York
LOCATION:290 E. Buchtel Avenue\, Akron\, United States\, 44325-1903
DESCRIPTION:<p>This is the annual meeting of the Ohio Philosophical Association. All are welcome to attend\, but please register in advance by sending an email to program@ohiophilosophy.org</p>\n<p>Prof. Anthony's keynote address is "The Constructive Role of Bias in our Epistemic and Affective Lives".</p>\n
ORGANIZER;CN=Christopher Pincock:
METHOD:PUBLISH
END:VEVENT
END:VCALENDAR
