BEGIN:VCALENDAR
PRODID:-//Grails iCalendar plugin//NONSGML Grails iCalendar plugin//EN
VERSION:2.0
CALSCALE:GREGORIAN
METHOD:PUBLISH
BEGIN:VEVENT
DTSTAMP:20260425T015154Z
DTSTART;TZID=America/New_York:20200113T040000
DTEND;TZID=America/New_York:20200113T040000
SUMMARY:Ohio Philosophical Association 2020 Annual Meeting
UID:20260426T113202Z-iCalPlugin-Grails@philevents-web-6b96c54f56-bljdq
TZID:America/New_York
LOCATION:290 E. Buchtel Avenue\, Akron\, United States\, 44325-1903
DESCRIPTION:<p>Keynote address: Louise Antony (University of Massachusetts\, Amherst)\,&nbsp\;"The Constructive Role of Bias in our Epistemic and Affective Lives"</p>\n<p>Papers are invited on any topic. Papers should be less than 4000 words (not including notes) and be deliverable in half an hour or less. Submissions should be prepared for blind review and include an abstract of no more than 200 words. &nbsp\;An electronic copy (.DOC\, .DOCX\, .RTF\, .PDF\, or .TXT only\, please) should be sent to arrive no later than<strong> January 13\, 2020</strong>\, to:</p>\n<p>program@ohiophilosophy.org</p>\n<p>Those interested in commenting on a paper or chairing a session should also indicate their interest.</p>\n
ORGANIZER;CN=Christopher Pincock:
METHOD:PUBLISH
END:VEVENT
END:VCALENDAR
