BEGIN:VCALENDAR
PRODID:-//Grails iCalendar plugin//NONSGML Grails iCalendar plugin//EN
VERSION:2.0
CALSCALE:GREGORIAN
METHOD:PUBLISH
BEGIN:VEVENT
DTSTAMP:20260421T210658Z
DTSTART;TZID=America/New_York:20200313T050000
DTEND;TZID=America/New_York:20200313T050000
SUMMARY:The Long Island Philosophical Society - LIPS 2020 Conference
UID:20260424T105624Z-iCalPlugin-Grails@philevents-web-6b96c54f56-bljdq
TZID:America/New_York
LOCATION:1000 Hempstead Avenue\, Rockville Centre\, United States\, USA 11571
DESCRIPTION:<p><strong>CALL FOR PAPERS</strong><strong></strong></p>\n<p><strong>LONG ISLAND PHILOSOPHICAL SOCIETY</strong></p>\n<p><strong>SPRING 2020</strong></p>\n<p><strong>MOLLOY COLLEGE</strong></p>\n<p><strong>The Long Island Philosophical Society is seeking submissions for its Spring 2020 conference which will be held Saturday\, April 18th 2020 on the attractive campus of Molloy College\, located in Rockville Centre\, NY.&nbsp\;</strong></p>\n<p>The Long Island Philosophical Society has been a dynamic forum for the exchange of ideas since 1964.&nbsp\;&nbsp\;LIPS is an internationally recognized organization that is a valuable philosophical resource for the Greater New York area.&nbsp\;Its conferences have drawn scholars from over 30 states and from the international community\, including Brazil\, Canada\, Ukraine\, Israel\, and Egypt.</p>\n<p><strong>Papers can be on any topic of philosophical interest.&nbsp\;Presentations are limited to 25-30 minutes\, to be followed by a 10-15 minute discussion period. Both professional philosophers (full-time\, part-time\, unaffiliated) and graduate students are welcome to submit.&nbsp\;&nbsp\;Paper submissions are also welcome from those in different disciplines who have an interest in philosophical issues.</strong></p>\n<p><strong><u>The submission deadline is Friday\, March 13\, 2020</u></strong><strong>.&nbsp\;</strong></p>\n<p><strong>Please submit papers\, including contact information and affiliation (if any) to Dr. Glenn Statile at&nbsp\;StatileG@stjohns.eduor Dr. Leslie Aarons at&nbsp\;&nbsp\;</strong><strong>laarons@lipsociety.org</strong><strong>.</strong></p>
ORGANIZER;CN=Leslie A. Aarons;CN=Glenn Statile:
METHOD:PUBLISH
END:VEVENT
END:VCALENDAR
