BEGIN:VCALENDAR
PRODID:-//Grails iCalendar plugin//NONSGML Grails iCalendar plugin//EN
VERSION:2.0
CALSCALE:GREGORIAN
METHOD:PUBLISH
BEGIN:VEVENT
DTSTAMP:20260423T154559Z
DTSTART;TZID=America/Chicago:20191115T130000
DTEND;TZID=America/Chicago:20191117T120000
SUMMARY:New Work on Choice and Belief
UID:20260429T224417Z-iCalPlugin-Grails@philevents-web-6b96c54f56-bljdq
TZID:America/Chicago
LOCATION:Tempe\, Arizona\, United States
ORGANIZER;CN=Brad Armendt;CN=James M. Joyce:
METHOD:PUBLISH
END:VEVENT
END:VCALENDAR
