BEGIN:VCALENDAR
PRODID:-//Grails iCalendar plugin//NONSGML Grails iCalendar plugin//EN
VERSION:2.0
CALSCALE:GREGORIAN
METHOD:PUBLISH
BEGIN:VEVENT
DTSTAMP:20260423T172320Z
DTSTART;TZID=America/Sao_Paulo:20191210T043000
DTEND;TZID=America/Sao_Paulo:20191210T170000
SUMMARY:Inconsistency in Factual Science
UID:20260430T033944Z-iCalPlugin-Grails@philevents-web-6b96c54f56-bljdq
TZID:America/Sao_Paulo
LOCATION:Institute of Philosophy of the Federal University of Rio de Janeiro\, Rio de Janeiro\, Brazil
DESCRIPTION:<p>Traditional epistemology has always rejected inconsistency on the grounds of the ex contradictione quodlibet (ECQ) logical principle. Since by ECQ\, any proposition would follow from a contradiction\, an inconsistent science would be uninformative and useless. Paraconsistent logics\, by restricting ECQ\, make it possible that at least some inconsistent science be not useless in this sense. Moreover\, scholars like da Costa and Priest have even defended the possibility of corroborating contradictory propositions about the world.</p>\n<p>In this workshop we discuss the problem that inconsistency poses to factual/empirical science\, and what would it mean to accept inconsistent science. This includes the three types of inconsistency advanced by Gotesky\, Bartelborth and Priest: i.e. inconsistencies (i) between a theory and data\, (ii) between two different theories\, and (iii) internal to a theory.</p>\n<p>The <em>Inconsistency in Factual Science</em> workshop is to be held at <em>Creativity 2019</em>: 1st World Congress of the Brazilian Academy of Philosophy in Honor of Newton da Costa 90th Birthday. The exact day of the workshop will be anonunced in the first week of November.</p>
ORGANIZER;CN=Luis Felipe Bartolo Alegre:
METHOD:PUBLISH
END:VEVENT
END:VCALENDAR
