BEGIN:VCALENDAR
PRODID:-//Grails iCalendar plugin//NONSGML Grails iCalendar plugin//EN
VERSION:2.0
CALSCALE:GREGORIAN
METHOD:PUBLISH
BEGIN:VEVENT
DTSTAMP:20260423T185727Z
DTSTART;TZID=America/Sao_Paulo:20191101T194500
DTEND;TZID=America/Sao_Paulo:20191101T194500
SUMMARY:Inconsistency in Factual Science at Creativity 2019
UID:20260430T090319Z-iCalPlugin-Grails@philevents-web-6b96c54f56-bljdq
TZID:America/Sao_Paulo
LOCATION:R. Riachuelo\, 303\, Rio de Janeiro\, Brazil
DESCRIPTION:<p>In this workshop we discuss the problem that inconsistency poses to factual/empirical science\, and what would it mean to accept inconsistent science. We are interested in submissions studying the relation between inconsistency and factual science\, either conceptually or from case studies\, including but not restricted to the following topics:</p>\n<p>- Historical or logical studies of (alleged) inconsistencies in factual theories\, or technology\, or formal science with applications to factual science</p>\n<p>- Types of inconsistency in factual science</p>\n<p>- Belief revision from empirical data</p>\n<p>- Inconsistencies in empirical data</p>\n<p>- The possibility of believing in two mutually inconsistent factual theories (e.g. QM and GTR)</p>\n<p>- Cognitive dissonance in scientific practice</p>\n<p>- The underlying logic of scientific practice</p>\n<p>- The logical possibility of inconsistent factual theories</p>\n<p>- The problem of testing inconsistent factual theories</p>\n<p>- Acceptance and rejection of inconsistent factual theories</p>\n<p>- The (in)consistency of the real world</p>\n<p>- Inconsistent scientific ontologies</p>\n<p>Send a one page abstract to luis.bartolo@unmsm.edu.pe by November 1st\, 2019 with subject <em>creativity:abstract</em>. Indicate your name\, title of the contribution and affiliation in the email body. Answers to proposals are going to be given within three days after submission.</p>\n<p>Abstracts are welcome in English\,&nbsp\;Portuguese\, Spanish and French\, which are the official languages of the event. However\, abstracts in German and Italian are also welcome in the evaluation phase\, provided the final abstract and lecture are in any of the official languages\, preferably in English.</p>\n<p>Try to apply as soon as possible in order to pay a lower registration price.</p>
ORGANIZER;CN=Luis Felipe Bartolo Alegre:
METHOD:PUBLISH
END:VEVENT
END:VCALENDAR
