BEGIN:VCALENDAR
PRODID:-//Grails iCalendar plugin//NONSGML Grails iCalendar plugin//EN
VERSION:2.0
CALSCALE:GREGORIAN
METHOD:PUBLISH
BEGIN:VEVENT
DTSTAMP:20260421T181844Z
DTSTART;TZID=Europe/London:20200215T040000
DTEND;TZID=Europe/London:20200216T120000
SUMMARY:Women Intellectuals in Antiquity\, Oxford\, 15-16 February 2020
UID:20260424T015800Z-iCalPlugin-Grails@philevents-web-6b96c54f56-bljdq
TZID:Europe/London
LOCATION:Keble College\, Oxford\, United Kingdom
DESCRIPTION:<p><strong>Call for Papers: Women Intellectuals in Antiquity </strong></p>\n<p>15-16 February 2020\, Keble College\, Oxford</p>\n<p>Aspasia\, Hypatia\, Sappho\, Lucretia\, Cleopatra\, Diotima\, Lavinia\, Monica\, Hecuba\, Macrina\, Radegund: the names of women intellectuals and the whispers of their powerful influence on philosophy\, politics\, literature\, and education are scattered through the ancient evidence.</p>\n<p>Who were these women teachers and philosophers\, thought-leaders and theorists of Antiquity? Beyond how they are presented and used by male authors\, how might their own thoughts and voices be fossilized within these ancient texts and other artefacts&ndash\; and what methodological tools do we need to develop in order to excavate them? What can be recovered of the distinctive ideas and methods these women contributed to philosophy\, literature\, theology\, or politics?</p>\n<p>This Symposium aims to bring together scholars from across the humanities disciplines to discuss women intellectuals in Antiquity. In addition to paper sessions\, it will feature two keynote talks by Dr. Danielle Layne and Dr. Sophia Connell\, and two round-table discussions led by Peter Adamson (<a href="https://historyofphilosophy.net/">https://historyofphilosophy.net/</a>) and Armand D&rsquo\;Angour (<a href="https://www.armand-dangour.com/">https://www.armand-dangour.com/</a>). The Symposium will provide a forum for further discussion complementing the Carlyle Philosophy Lecture series which will be given in Oxford throughout Hilary Term by Professor Peter Adamson.&nbsp\;</p>\n<p><strong>Please see the programme here:&nbsp\;</strong>https://drive.google.com/file/d/18ReSRX78ZBXgjGbIgwJVze5rvR2-QIbw/view&nbsp\;</p>\n<p><strong>You are invited to register for the event here:&nbsp\;</strong><a href="https://estore.kcl.ac.uk/conferences-and-events/academic-faculties/faculty-of-arts-humanities/department-of-classics/women-intellectuals-in-antiquity-symposium">https://estore.kcl.ac.uk/conferences-and-events/academic-faculties/faculty-of-arts-humanities/department-of-classics/women-intellectuals-in-antiquity-symposium</a></p>\n<p>This event is jointly organised by Jenny Rallens\, Peter Adamson\, Katharine O&rsquo\;Reilly\, and Ursula Coope. We gratefully acknowledge the support of Keble College Oxford\, the British Society for the History of Philosophy (BSHP)\, The Oxford Research Centre in the Humanities (TORCH)\, Oxford University\, the Department of Classics at King's College London\, and LMU Munich.</p>
ORGANIZER;CN=Peter Adamson;CN=Ursula Coope;CN=Katharine O'Reilly;CN=Jenny Rallens:
METHOD:PUBLISH
END:VEVENT
END:VCALENDAR
