BEGIN:VCALENDAR
PRODID:-//Grails iCalendar plugin//NONSGML Grails iCalendar plugin//EN
VERSION:2.0
CALSCALE:GREGORIAN
METHOD:PUBLISH
BEGIN:VEVENT
DTSTAMP:20260421T032249Z
DTSTART;TZID=Europe/London:20130612T100000
DTEND;TZID=Europe/London:20130615T180000
SUMMARY:11th Annual International Society for Neoplatonic Studies Conference
UID:20260422T033022Z-iCalPlugin-Grails@philevents-web-6b96c54f56-bljdq
TZID:Europe/London
LOCATION:Cardiff\, United Kingdom
DESCRIPTION:<p>Conference organizers:</p>\n\n\n\n\n\n<p>Josef L&ouml\;ssl\, Cardiff University (LosslJ@cardiff.ac.uk</a>)</p>\n<p>Nicholas Baker-Brian\, Cardiff University (Baker-BrianNJ1@cardiff.ac.uk</a>)</p>\n<p>Crystal Addey (AddeyCJ@Cardiff.ac.uk</a>)</p>\n<p>John Finamore\, University of Iowa (john-finamore@uiowa.edu</a>)</p>\n<p>Michael Wagner\, University of San Diego (mwagner@sandiego.edu</a>)</p>\n\n\n\n\n\n<p>You may sign up and pay dues for&nbsp\;membership of the&nbsp\;International Society for Neoplatonic Studies (ISNS)&nbsp\;on the web site of the Philosophy Documentation Center:&nbsp\;</p>\n\n\n\n\n\n<p>http://secure.pdcnet.org/isns/International-Society-for-Neoplatonic-Studies-(ISNS)</a></p>\n\n<p>Dues are $60.00 per year ($20.00 for students and retirees).&nbsp\; &nbsp\;</p>\n\n<p>If you have any questions about the program\, registration\, or location of the conference\, please email Josef L&ouml\;ssl at&nbsp\;LosslJ@cardiff.ac.uk</a>.</p>\n\n<p>Questions about ISNS policies\, should be addressed to John Finamore (john-finamore@uiowa.edu</a>).</p>\n\n\n\n\n
ORGANIZER:
METHOD:PUBLISH
END:VEVENT
END:VCALENDAR
