BEGIN:VCALENDAR
PRODID:-//Grails iCalendar plugin//NONSGML Grails iCalendar plugin//EN
VERSION:2.0
CALSCALE:GREGORIAN
METHOD:PUBLISH
BEGIN:VEVENT
DTSTAMP:20260421T051629Z
DTSTART;TZID=Europe/London:20130225T090000
DTEND;TZID=Europe/London:20130225T090000
SUMMARY:11th Annual International Society for Neoplatonic Studies Conference
UID:20260422T103558Z-iCalPlugin-Grails@philevents-web-6b96c54f56-bljdq
TZID:Europe/London
LOCATION:Cardiff\, United Kingdom
DESCRIPTION:<p>Anyone interested in organizing a panel at the conference should send a brief description of thepanel along with its title and the name(s) and email address(es) of the contact person(s) to the conference organizers:</p>\n\n<p>Josef L&ouml\;ssl\, Cardiff University (LosslJ@cardiff.ac.uk</a>)</p>\n<p>Nicholas Baker-Brian\, Cardiff University (Baker-BrianNJ1@cardiff.ac.uk</a>)</p>\n<p>Crystal Addey (AddeyCJ@Cardiff.ac.uk</a>)</p>\n<p>John Finamore\, University of Iowa (john-finamore@uiowa.edu</a>)</p>\n<p>Michael Wagner\, University of San Diego (mwagner@sandiego.edu</a>)</p>\n\n<p>Panel abstracts are due on January 28\, 2013. I will email the list of proposed panels by February 1. Panel organizers are responsible for choosing and collecting abstracts for their panels. They should notify the organizers of their decisions by March 1.</p>\n\n<p>We also welcome individual abstracts for papers that do not fall under any of the panels listed at this site. After the panels are announced in February\, you will be able to send your abstract (again\, one-page maximum) to the five committee members above.</p>\n\n<p>All abstracts\, whether individual or for inclusion in panels\, are due by 25 February\, 2013. Papers may be presented in English\, French\, German\, Spanish\, or Italian. It is recommended that those delivering papers in languages other than English provide printed copies to their audience at the conference.</p>\n\n<p>Please note that anyone giving a paper at the conference must be a member of the ISNS. You may sign up and pay dues on the web site of the Philosophy Documentation Center:&nbsp\;</p>\n<p>http://secure.pdcnet.org/isns/International-Society-for-Neoplatonic-Studies-(ISNS)</p>\n<p>Dues are $60.00 per year ($20.00 for students and retirees).&nbsp\; &nbsp\;</p>\n<p>If you have any questions about the program\, registration\, or location of the conference\, please email Josef L&ouml\;ssl at&nbsp\;LosslJ@cardiff.ac.uk.</p>\n<p>Questions about ISNS policies\, should be addressed to John Finamore (john-finamore@uiowa.edu).</p>
ORGANIZER:
METHOD:PUBLISH
END:VEVENT
END:VCALENDAR
