BEGIN:VCALENDAR
PRODID:-//Grails iCalendar plugin//NONSGML Grails iCalendar plugin//EN
VERSION:2.0
CALSCALE:GREGORIAN
METHOD:PUBLISH
BEGIN:VEVENT
DTSTAMP:20260423T154441Z
DTSTART;TZID=Europe/Berlin:20210312T090000
DTEND;TZID=Europe/Berlin:20210313T120000
SUMMARY:Goethe Epistemology Meeting 2021 online
UID:20260429T224047Z-iCalPlugin-Grails@philevents-web-6b96c54f56-bljdq
TZID:Europe/Berlin
LOCATION:Frankfurt am Main\, Germany
DESCRIPTION:<p>After its successful inception in 2019\, GEM is back for a second edition in 2021. Its aims remain the same: to bring together leading scholars and young researchers and provide a forum to discuss unpublished projects.&nbsp\;</p>\n<p>This will be an online only event held via Zoom and the majority of the talks will be pre-recorded\, so particpiants watch these talks prior to the online event\, which will be dedicated to discussion only.&nbsp\;</p>\n<p>Please join us and register via email to get access to abstracts\, the pre-recorded talks and our Zoom meeting. Registration and participation is entirely free\, but limited.</p>\n<p>This years keynote speakers will be Maria Lasonen-Aarnio and Michael Titelbaum.</p>\n<p>See below for our full speaker line-up and please note the slightly unusual timetable. We hope that it will help people in different time zones to participate. All times in Central European Time (CET).</p>\n<p><strong>Friday\, March 12</strong></p>\n<p>2.00pm -3.00pm &nbsp\;Maria Lasonen-Aarnio&nbsp\;</p>\n<p>3.15pm - 4.15pm&nbsp\;Andrew Peet&nbsp\;</p>\n<p>4.30pm -5.30pm&nbsp\;Jacques-Henri Vollet</p>\n<p>5.45pm -6.45pm&nbsp\;Roger Clarke</p>\n<p>7.00pm - 8.00pm Paige Massey</p>\n<p><strong>Saturday\, March 13</strong></p>\n<p>2.00pm -3.00pm Roman Heil</p>\n<p>3.15pm - 4.15pm Matt Jope</p>\n<p>4.30 pm - 5.30 pm Eyal Tal</p>\n<p>5.45pm - 6.45pm Mike Titelbaum</p>
ORGANIZER;CN=Andy Mueller:
METHOD:PUBLISH
END:VEVENT
END:VCALENDAR
