BEGIN:VCALENDAR
PRODID:-//Grails iCalendar plugin//NONSGML Grails iCalendar plugin//EN
VERSION:2.0
CALSCALE:GREGORIAN
METHOD:PUBLISH
BEGIN:VEVENT
DTSTAMP:20260423T170645Z
DTSTART;TZID=Europe/Berlin:20200306T184500
DTEND;TZID=Europe/Berlin:20200306T184500
SUMMARY:Goethe Epistemology Meeting 2020
UID:20260430T030651Z-iCalPlugin-Grails@philevents-web-6b96c54f56-bljdq
TZID:Europe/Berlin
LOCATION:Frankfurt am Main\, Germany
DESCRIPTION:<p>After its successful inception in 2019\, GEM is back for a second edition in 2020. Its aims remain the same: to bring together leading scholars and young researchers and provide a forum to discuss unpublished projects.&nbsp\;</p>\n<p>This years keynote speakers will be Maria Lasonen-Aarnio and Michael Titelbaum. The programm will feature 8 further speakers who will be selected via this CFP. &nbsp\;</p>\n<p>We will be able to provide small travel bursaries to selected speakers\, but the details will vary with demand. Preference will be given to young researchers.&nbsp\;</p>\n<p>Call for Papers</p>\n<p>We invite submission of high quality work in any area of analytic epistemology\, including formal\, social\, and feminist epistemology. Papers engaging with the work of the keynote speakers will be given special consideration.</p>\n<p>Papers should be suitable for 35-40 minute presentations and should not exceed 5000 words\, excluding footnotes and bibliography. Papers should be prepared for blind review\, and submitted as PDFs with a separate cover sheet that includes: the author&rsquo\;s name\, institutional affiliation\, contact information\, paper title\, word count and an abstract of no more than 200 words.</p>\n<p>Deadline for submissions: March 6th 2020</p>\n<p>Notification of acceptance by April 1st 2020.</p>\n<p>Contact/Submissions:&nbsp\;</p>\n<p><a href="mailto:g.e.m.2020.uni.frankfurt@gmail.com">g.e.m.2020.uni.frankfurt@gmail.com</a></p>\n<p>http://www.philosophie.uni-frankfurt.de/gem</p>
ORGANIZER;CN=Andy Mueller:
METHOD:PUBLISH
END:VEVENT
END:VCALENDAR
