BEGIN:VCALENDAR
PRODID:-//Grails iCalendar plugin//NONSGML Grails iCalendar plugin//EN
VERSION:2.0
CALSCALE:GREGORIAN
METHOD:PUBLISH
BEGIN:VEVENT
DTSTAMP:20260420T024552Z
DTSTART;TZID=America/Chicago:20200125T184500
DTEND;TZID=America/Chicago:20200125T184500
SUMMARY:Creativity and Improvisation in Thought\, Practice\, and Mind:  An Interdisciplinary Conference
UID:20260423T110544Z-iCalPlugin-Grails@philevents-web-f5d4878dd-nv7xt
TZID:America/Chicago
LOCATION:6001 Dodge Street\, Omaha\, United States\, 68182
DESCRIPTION:<p>Many human cognitive capacities and processes may be deployed creatively\, from unique choices made for oneself up through novel cultural shifts. Similarly\, large swaths of our daily lives are taken up with performing spontaneous\, on-the-fly\, and unplanned activities that are\, in a word\, improvised.&nbsp\; Charting out the nature of both creativity and improvisation\, taken individually or together\, remains an open and pressing issue. In this conference\, we will delve into various philosophical\, theoretical\, empirical\, and interdisciplinary issues that are related to creativity and improvisation. A non-exhaustive list of related questions and themes for this topic include:</p>\n<p>- What is the relationship between improvisation and creativity?</p>\n<p>- What is the relationship between creative activity and well-being?</p>\n<p>- What is the best way to model individual and collective creativity?</p>\n<p>- Is creativity in the arts the same thing as in other domains\, such as in science or business?</p>\n<p>- What are the pros and cons of different scientific operationalizations of creativity and improvisation?</p>\n<p>- Provide a conceptual analysis of creativity and/or improvisation.</p>\n<p><strong>Call for Papers and Posters</strong></p>\n<p>This is an open call for either paper presentations (please plan for 30-minute presentations followed by 15-minute Q&amp\;A sessions) or poster presentations. All submissions should be sent to <a href="mailto:UNOCreativityConf2020@gmail.com">UNOCreativityConf2020@gmail.com</a>. Please see below for specific information on submission requirements:</p>\n<p><strong>Paper:</strong> Submit a cover page (paper title\, author name(s)\, any affiliations\, contact email address\, paper submission\, and 150-200 word abstract) and a separate\, anonymous 750-1\,000 words outline. Paper submissions will be considered for poster submissions as well. <strong>Poster</strong>: Submit a cover page (poster title\, author name(s)\, any affiliations\, contact email address\, poster submission\, and a 100-150 word abstract) and a separate\, anonymous 300-500 words outline.</p>\n<p><strong>CFP Deadline</strong>: For full consideration\, <strong>please submit by January 25th at 11:59pm CST</strong>. If you have any additional questions\, please email Kevin Ryan at <a href="mailto:UNOCreativityConf2020@gmail.com">UNOCreativityConf2020@gmail.com</a></p>\n<p>Please also note that there is <strong>possible graduate student travel funding</strong> <strong>for accepted presenters</strong>. Include whether you would like to be considered for these funds in your cover letter.</p>
ORGANIZER:
METHOD:PUBLISH
END:VEVENT
END:VCALENDAR
