BEGIN:VCALENDAR
PRODID:-//Grails iCalendar plugin//NONSGML Grails iCalendar plugin//EN
VERSION:2.0
CALSCALE:GREGORIAN
METHOD:PUBLISH
BEGIN:VEVENT
DTSTAMP:20260423T190216Z
DTSTART;TZID=Europe/Berlin:20121213T110000
DTEND;TZID=Europe/Berlin:20121214T170000
SUMMARY:Justice and Development
UID:20260430T090712Z-iCalPlugin-Grails@philevents-web-6b96c54f56-bljdq
TZID:Europe/Berlin
LOCATION:Frankfurt am Main\, Germany
DESCRIPTION:<p><strong>Program</strong></p>\n<p><strong>Thursday\, 13th of December 2012\,&nbsp\;</strong><br><br>2-4 pm<br><br>Panel 1: Justice and Development &ndash\; The Contributions of &nbsp\; Economics&amp\;amp\;#8232\;<br><br>Ingrid Robeyns (Erasmus University Rotterdam): "Justice\, Development and the Assessment of&nbsp\;Economic Policies\, Institutions and Systems"<br><br>Sanjay Reddy (The New School\, NY): TBA<br><br>4-4:30 pm Coffee Break<br><br>4:30-6:30 pm<br><br>Panel 2: Theories of Development &ndash\; Post-Development and Justice-Based Perspectives<br><br>Aram Ziai (Center for Development Research at the University of Bonn): "Some Reflections on the&nbsp\;Concept of Development"<br><br>Julian Culp (Goethe-University\, Frankfurt/M.)\, "Justice-Based Development &ndash\; A Discourse-Theoretic&nbsp\;Approach"<br><br>7:15 pm<br><br>Public Lecture<br><br>Martha Nussbaum (University of Chicago): "Development and Human Capabilities: The Contribution&nbsp\;of a Philosophical Theory of Justice."<br><br>Introduction: Rainer Forst (Goethe-University\, Frankfurt/M.)<br><br><strong>Friday\, 14th of December 2012</strong><br><br>10-12 pm<br><br>Panel 3: Equality\, Development and Democratic Justice<br><br>David Crocker (University of Maryland): "Agency and Democracy: Re-orienting Theories of&nbsp\;Development and Justice"<br><br>Neera Chandhoke (University of Delhi): "Equality for What?"<br><br>1:30-3:30 pm<br><br>Panel 4: Development - Historical Foundations and Current Problems<br><br>Philip Lepenies (Institute for Advanced Sustainability Studies\, Potsdam): "Us and Them: Reflections&nbsp\;on the Historical Foundations of Development"<br><br>Joseph Agbakoba (University of Nigeria at Nsukka): "The Problem of Choice and Responsibility in&nbsp\;Modern Africa's Development"<br><br>3:30-4:00 pm Coffee Break<br><br>4:00-6:00 pm<br><br>Roundtable with Practitioners from Development Organizations<br><br>Stefan Gosepath\, Professor of Moral and Political Philosophy\, Freie Universit&auml\;t Berlin<br><br>Angela Hariche\, Head of Unit\, Global Well-Being Networks\, OECD &ndash\; Organization for Economic Co-Operation and Development\, Paris<br><br>Michael Krempin\, Senior Policy Advisor\, Corporate Development Unit\, GIZ &ndash\; German Society for&nbsp\;International Cooperation\, Frankfurt/M.<br><br>Jean Saldanha\, Policy and Advocacy Officer\, CIDSE &ndash\; International Alliance of Catholic Development&nbsp\;Agencies\, Brussels<br><br>Venues<br><br>The panels and the roundtable will take place in the "Eisenhower-room" of the main building\, i.e.&nbsp\;the "IG Hochhaus"\, on Campus Westend. The room number of this venue is 1.314.<br><br>The public lecture will take place in lecture hall 6 of the lecture hall building\, i.e. the<br>"Hoersaalzentrum"\, on Campus Westend.<br><br>A map of Campus Westend\, which indicates the buildings of the venues of the panels\, the&nbsp\;roundtable and the public lecture\, is available here:<br>www.gsefm.eu/_data/pdf/DirectionsCampusWestend.pdf<br><br><strong>Workshop description</strong><br><br>The &lsquo\;Beyond-GDP&rsquo\; discourse as to how to understand and measure social progress is no longer&nbsp\;confined to social-scientific development researchers or other academics. Policy makers and civil&nbsp\;society at national\, inter- and transnational levels are engaged in discussing and devising concepts&nbsp\;and indicators that would facilitate assessing social progress domestically and globally.&nbsp\;Examples&nbsp\;include the &lsquo\;Sarkozy-Commission&rsquo\; on the Measurement of Economic Performance and Social&nbsp\;Progress\, the study commission on Growth\, Wellbeing and Quality of Life of the German parliament&nbsp\;and the European Framework for Measuring Progress of the EU.</p>\n<p>In addition\, the expiring of the Millennium Development Goals in 2015 currently provokes&nbsp\;members of development institutions to reflect upon and search for a post-2015 normative&nbsp\;framework for orienting international development policy. Several non-governmental organizations&nbsp\;are deliberating about how to re-think development\, for instance\, the Beyond2015 campaign. And&nbsp\;in the aftermath of the &lsquo\;Rio+20&rsquo\; UN Conference on Sustainable Development the UN already&nbsp\;actively promotes &lsquo\;Sustainable Development Goals&rsquo\;.<br><br>What is striking about these processes of opinion and will formation is how little attention they pay&nbsp\;to theories of (global) justice. This is perplexing not only because theorizing justice has played&nbsp\;such an important role in political philosophy and theory throughout the last decades\, but also&nbsp\;because according to a very influential understanding justice is the &lsquo\;first virtue of social&nbsp\;institutions&rsquo\;. Accordingly\, one should expect that the various processes of opinion and will&nbsp\;formation would be far more sensitive to the question as to what social progress and sound&nbsp\;development policy would mean from the point of view of (global) justice.<br><br>This neglect is even more curious in light of the fact that the concepts of justice and development&nbsp\;are often employed in very similar ways. Conceptions of both of these concepts usually outline a&nbsp\;social ideal or provide a normative source of critique of existing social relations. Theories of justice&nbsp\;ask both what an ideally just society would involve and what would effectively contribute to less&nbsp\;injustice today. Likewise\, theories of development in the social sciences also consider what would&nbsp\;be the ultimate goal of social change and criticize actual social conditions for reflecting an&nbsp\;underdeveloped state of affairs. Despite of these similarities of the aims and critical functions of&nbsp\;the usage of the two concepts\, few attempts have been made so far to clarify the conceptual&nbsp\;relation and tensions between them.<br><br>The workshop aims at filling this gap by bringing together political philosophers and theorists as&nbsp\;well as scholars working in development economics and social-scientific development research so&nbsp\;as to exchange their understandings of both justice and development. The workshop thereby&nbsp\;provides a dialogue platform that could enable enriching both theories of justice and of&nbsp\;development. Eventually it will also make more intelligible as to why the conceptions of (global)&nbsp\;justice have failed to attract more attention in the ongoing debates about social progress and&nbsp\;development policy.<br><br>Attendance of the workshop is free. Except for the public lecture registration is required for&nbsp\;organization and catering purposes by November 28.&nbsp\;Places are limited\, and will be assigned on a first come\, first serve basis.&nbsp\;In order to register\, please contact Ms Val&eacute\;rie Bignon:&nbsp\;bignon@em.uni-frankfurt.de<br><br></p>
ORGANIZER;CN=Julian Culp:
METHOD:PUBLISH
END:VEVENT
END:VCALENDAR
